BEGIN:VCALENDAR
VERSION:2.0
PRODID:-//Houston TASO - ECPv6.15.20//NONSGML v1.0//EN
CALSCALE:GREGORIAN
METHOD:PUBLISH
X-ORIGINAL-URL:http://htasobaseball.com
X-WR-CALDESC:Events for Houston TASO
REFRESH-INTERVAL;VALUE=DURATION:PT1H
X-Robots-Tag:noindex
X-PUBLISHED-TTL:PT1H
BEGIN:VTIMEZONE
TZID:America/Chicago
BEGIN:DAYLIGHT
TZOFFSETFROM:-0600
TZOFFSETTO:-0500
TZNAME:CDT
DTSTART:20200308T080000
END:DAYLIGHT
BEGIN:STANDARD
TZOFFSETFROM:-0500
TZOFFSETTO:-0600
TZNAME:CST
DTSTART:20201101T070000
END:STANDARD
BEGIN:DAYLIGHT
TZOFFSETFROM:-0600
TZOFFSETTO:-0500
TZNAME:CDT
DTSTART:20210314T080000
END:DAYLIGHT
BEGIN:STANDARD
TZOFFSETFROM:-0500
TZOFFSETTO:-0600
TZNAME:CST
DTSTART:20211107T070000
END:STANDARD
BEGIN:DAYLIGHT
TZOFFSETFROM:-0600
TZOFFSETTO:-0500
TZNAME:CDT
DTSTART:20220313T080000
END:DAYLIGHT
BEGIN:STANDARD
TZOFFSETFROM:-0500
TZOFFSETTO:-0600
TZNAME:CST
DTSTART:20221106T070000
END:STANDARD
BEGIN:DAYLIGHT
TZOFFSETFROM:-0600
TZOFFSETTO:-0500
TZNAME:CDT
DTSTART:20230312T080000
END:DAYLIGHT
BEGIN:STANDARD
TZOFFSETFROM:-0500
TZOFFSETTO:-0600
TZNAME:CST
DTSTART:20231105T070000
END:STANDARD
END:VTIMEZONE
BEGIN:VEVENT
DTSTART;TZID=America/Chicago:20220130T080000
DTEND;TZID=America/Chicago:20220130T160000
DTSTAMP:20260420T062507
CREATED:20210901T060900Z
LAST-MODIFIED:20220118T085919Z
UID:4676-1643529600-1643558400@htasobaseball.com
SUMMARY:2022 New Umpire Clinic-Week 3\, Day 3
DESCRIPTION:New members must attend two (2) weekends of the New Umpire Training to be scheduled games through HTASO. \nLocations/Schedule: \n\nTBD
URL:http://htasobaseball.com/event/2022-new-umpire-clinic-week-3-day-3/
LOCATION:TBD
CATEGORIES:Training
ATTACH;FMTTYPE=image/jpeg:http://htasobaseball.com/wp-content/uploads/2021/09/Umpire-RRTmlN.tmp_.jpg
END:VEVENT
BEGIN:VEVENT
DTSTART;TZID=America/Chicago:20220129T080000
DTEND;TZID=America/Chicago:20220129T160000
DTSTAMP:20260420T062507
CREATED:20210901T060900Z
LAST-MODIFIED:20220118T023636Z
UID:4674-1643443200-1643472000@htasobaseball.com
SUMMARY:2022 New Umpire Clinic-Week 3\, Day 2
DESCRIPTION:New members must attend two (2) weekends of the New Umpire Training to be scheduled games through HTASO. \nAll new members need to come dressed in their base uniform and bring your plate gear for live game practice. \nLocations/Schedule: \n\nCollege Park HS\n\nOn-Field Clinic\, 8am-10am\nLive games\, 10am-4:30pm\n\n\nSpring Branch Memorial HS\n\nOn-Field Clinic\, 8am-1:30pm\nLive games\, 2pm-5:30pm\n\n\nAtascocita HS\n\nLive games\, 8am-7pm\n\n\n\nCollege Park High School-Baseball Field\n3701 College Park Dr.\nWoodlands\, TX 77384 \nMemorial High School-Baseball Field (across from HS)\n935 Echo Ln.\nHouston\, TX 77024 \nAtascocita High School-Baseball Field\n13300 Will Clayton Pkwy.\nHumble\, TX 77346
URL:http://htasobaseball.com/event/2022-new-umpire-clinic-week-3-day-2/
LOCATION:TBD
CATEGORIES:Training
ATTACH;FMTTYPE=image/jpeg:http://htasobaseball.com/wp-content/uploads/2021/09/Umpire-RRTmlN.tmp_.jpg
END:VEVENT
BEGIN:VEVENT
DTSTART;TZID=America/Chicago:20220128T183000
DTEND;TZID=America/Chicago:20220128T210000
DTSTAMP:20260420T062507
CREATED:20210901T060859Z
LAST-MODIFIED:20210901T060859Z
UID:4673-1643394600-1643403600@htasobaseball.com
SUMMARY:2022 New Umpire Clinic-Week 3\, Day 1
DESCRIPTION:New members must attend two (2) weekends of the New Umpire Training to be scheduled games through HTASO.
URL:http://htasobaseball.com/event/2022-new-umpire-clinic-week-3-day-1/
LOCATION:TBD
CATEGORIES:Training
ATTACH;FMTTYPE=image/jpeg:http://htasobaseball.com/wp-content/uploads/2021/09/Umpire-RRTmlN.tmp_.jpg
END:VEVENT
BEGIN:VEVENT
DTSTART;TZID=America/Chicago:20220126T183000
DTEND;TZID=America/Chicago:20220126T203000
DTSTAMP:20260420T062507
CREATED:20211215T213314Z
LAST-MODIFIED:20220105T235614Z
UID:4804-1643221800-1643229000@htasobaseball.com
SUMMARY:2022 Rules Clinic Meeting
DESCRIPTION:This meeting is MANDATORY if a member has not attended the State Meeting\, Regional Clinic\, or the online rules clinic. \nThis will be held at the Tracy Gee Community Center. Pizza and sodas will be provided. \nIf you have not received you rule book or ID card\, they may be picked up before 6:20pm and after the meeting concludes. \nKyle McNeely\, TASO State Rules Interpreter\, will be presenting.
URL:http://htasobaseball.com/event/2022-rules-clinic-meeting/
LOCATION:Tracy Gee Community Center\, 3599 Westcenter Dr.\, Houston\, TX\, 77042\, United States
CATEGORIES:General Meetings,Training
ATTACH;FMTTYPE=image/jpeg:http://htasobaseball.com/wp-content/uploads/2021/09/selective-focus-grayscale-photography-of-baseball-773063-ahIa0x.tmp_.jpg
ORGANIZER;CN="Josh White":MAILTO:dad9299@gmail.com
END:VEVENT
BEGIN:VEVENT
DTSTART;TZID=America/Chicago:20220123T080000
DTEND;TZID=America/Chicago:20220123T160000
DTSTAMP:20260420T062507
CREATED:20210901T060659Z
LAST-MODIFIED:20220118T090005Z
UID:4671-1642924800-1642953600@htasobaseball.com
SUMMARY:2022 New Umpire Clinic-Week 2\, Day 3
DESCRIPTION:New members must attend two (2) weekends of the New Umpire Training to be scheduled games through HTASO. \nLocations/Schedule: \n\nTBD
URL:http://htasobaseball.com/event/2022-new-umpire-clinic-week-2-day-3/
LOCATION:TBD
CATEGORIES:Training
ATTACH;FMTTYPE=image/jpeg:http://htasobaseball.com/wp-content/uploads/2021/09/Umpire-RRTmlN.tmp_.jpg
END:VEVENT
BEGIN:VEVENT
DTSTART;TZID=America/Chicago:20220122T090000
DTEND;TZID=America/Chicago:20220122T160000
DTSTAMP:20260420T062507
CREATED:20220104T085718Z
LAST-MODIFIED:20220104T085718Z
UID:4873-1642842000-1642867200@htasobaseball.com
SUMMARY:2022 Advanced Varsity Clinic
DESCRIPTION:Registration is required.   \nWhere: \nThe Houston Astros MLB Urban Youth Academy \n2801 S. Victory Dr. \nHouston\, TX  77099 \nWho: \nAny HTASO member in good standing\, who is varsity-qualified\, and wants to improve their skills. \nWhy we are doing this?\n\n\nHelp our HTASO Varsity level umpires increase their skills set (tools) and knowledge in connection to High School baseball\n\n\nCreate consistency in the administration of the High School baseball rules and interactions between Umpires\, Coaches and Players at the High School level of baseball.\n\n\nLearning Advanced philosophies\, mechanics\, and rule applications (procedures) for High School baseball\n\n\nProvide opportunities with advanced skills to improve rankings and playoff assignments.\n\n\nPhilosophies\n\n\nAdding TOOLS to increase on-field CONFIDENCE\n\n\n90/10 Concept – Instruct to the 90% of usual types of plays rather than the obscure 10%\n\n\nGetting the Call Right – Remove EGO’s (Know when and how to get help)\n\n\nTopics\n\n\nBelievability – How to use the RULES – Not just knowing the rules – Applications\, Procedures and Mechanics\, Self-Practice\n\n\nApproachability – Handling Coaches – Verbal Judo\n\n\nPositioning – Working the Bases\, Cage work\n\n\nCrew Communications – Before\, During and After Game
URL:http://htasobaseball.com/event/2022-advanced-varsity-clinic/
LOCATION:Astros Urban Youth Academy\, 2801 S. Victory Dr.\, Houston\, TX\, 77099\, United States
CATEGORIES:Training
ATTACH;FMTTYPE=image/jpeg:http://htasobaseball.com/wp-content/uploads/2021/09/Umpire-RRTmlN.tmp_.jpg
ORGANIZER;CN="Lenny Amaya":MAILTO:lennyamaya1@yahoo.com
END:VEVENT
BEGIN:VEVENT
DTSTART;TZID=America/Chicago:20220122T080000
DTEND;TZID=America/Chicago:20220122T160000
DTSTAMP:20260420T062507
CREATED:20210901T060659Z
LAST-MODIFIED:20220118T015324Z
UID:4670-1642838400-1642867200@htasobaseball.com
SUMMARY:2022 New Umpire Clinic-Week 2\, Day 2
DESCRIPTION:New members must attend two (2) weekends of the New Umpire Training to be scheduled games through HTASO. \nAll new members need to come dressed in their base uniform and bring your plate gear for live game practice. \nLocations/Schedule: \n\nCollege Park HS\n\nOn-Field Clinic\, 8am-12pm\nLive games\, 12:30pm-4:30pm (10-4:30)\n\n\nSpring Branch Memorial HS\n\nOn-Field Clinic\, 8am-11:30am\nLive games\, 12pm-3:30pm(2-5:30)\n\n\n\nCollege Park High School-Baseball Field\n3701 College Park Dr.\nWoodlands\, TX 77384 \nMemorial High School-Baseball Field (across from HS)\n935 Echo Ln.\nHouston\, TX 77024
URL:http://htasobaseball.com/event/2022-new-umpire-clinic-week-2-day-2/
LOCATION:TBD
CATEGORIES:Training
ATTACH;FMTTYPE=image/jpeg:http://htasobaseball.com/wp-content/uploads/2021/09/Umpire-RRTmlN.tmp_.jpg
END:VEVENT
BEGIN:VEVENT
DTSTART;TZID=America/Chicago:20220121T183000
DTEND;TZID=America/Chicago:20220121T210000
DTSTAMP:20260420T062507
CREATED:20210901T060658Z
LAST-MODIFIED:20220118T013553Z
UID:4669-1642789800-1642798800@htasobaseball.com
SUMMARY:2022 New Umpire Clinic-Week 2\, Day 1
DESCRIPTION:New members must attend two (2) weekends of the New Umpire Training to be scheduled games through HTASO. \nRules Clinic\, via Zoom\, hosted by Tony McMenomy
URL:http://htasobaseball.com/event/2022-new-umpire-clinic-week-2-day-1/
LOCATION:TBD
CATEGORIES:Training
ATTACH;FMTTYPE=image/jpeg:http://htasobaseball.com/wp-content/uploads/2021/09/Umpire-RRTmlN.tmp_.jpg
END:VEVENT
BEGIN:VEVENT
DTSTART;TZID=America/Chicago:20220119T183000
DTEND;TZID=America/Chicago:20220119T210000
DTSTAMP:20260420T062507
CREATED:20210901T060658Z
LAST-MODIFIED:20211215T212807Z
UID:4668-1642617000-1642626000@htasobaseball.com
SUMMARY:2022 General Membership Meeting-4
DESCRIPTION:General Membership Meeting\nThis meeting will be conducted via Zoom Webinar. \nMembers must attend 70% of chapter meetings to be eligible for Playoffs.
URL:http://htasobaseball.com/event/2022-general-membership-meeting-4/
LOCATION:Virtual Event
CATEGORIES:General Meetings,Training
ATTACH;FMTTYPE=image/jpeg:http://htasobaseball.com/wp-content/uploads/2021/09/selective-focus-grayscale-photography-of-baseball-773063-ahIa0x.tmp_.jpg
END:VEVENT
BEGIN:VEVENT
DTSTART;TZID=America/Chicago:20220118T183000
DTEND;TZID=America/Chicago:20220118T210000
DTSTAMP:20260420T062507
CREATED:20210901T060658Z
LAST-MODIFIED:20210901T060658Z
UID:4667-1642530600-1642539600@htasobaseball.com
SUMMARY:2021-22 New Umpire Orientation-Jan
DESCRIPTION:New Umpire OrientationThis class is an introduction into TASO Baseball-Houston Chapter.  Attendance to one of the orientations is a requirement for any new member and any returning member with a significant break in service.  This class may be held in-person at Tracy Gee Community Center.  If not\, it will be held via a virtual presentation and a link will be provided after registering.
URL:http://htasobaseball.com/event/2021-22-new-umpire-orientation-jan/
LOCATION:Virtual Event
CATEGORIES:Training
ATTACH;FMTTYPE=image/jpeg:http://htasobaseball.com/wp-content/uploads/2021/09/Umpire-RRTmlN.tmp_.jpg
ORGANIZER;CN="Ted Volf":MAILTO:umpted48@gmail.com
END:VEVENT
BEGIN:VEVENT
DTSTART;TZID=America/Chicago:20220116T090000
DTEND;TZID=America/Chicago:20220116T130000
DTSTAMP:20260420T062507
CREATED:20210901T060458Z
LAST-MODIFIED:20220116T142146Z
UID:4666-1642323600-1642338000@htasobaseball.com
SUMMARY:2022 New Umpire Clinic-Week 1\, Day 3
DESCRIPTION:New members must attend two (2) weekends of the New Umpire Training to be scheduled games through HTASO. \nAt C.E. King
URL:http://htasobaseball.com/event/2022-new-umpire-clinic-week-1-day-3/
LOCATION:TBD
CATEGORIES:Training
ATTACH;FMTTYPE=image/jpeg:http://htasobaseball.com/wp-content/uploads/2021/09/Umpire-RRTmlN.tmp_.jpg
END:VEVENT
BEGIN:VEVENT
DTSTART;TZID=America/Chicago:20220115T080000
DTEND;TZID=America/Chicago:20220115T160000
DTSTAMP:20260420T062507
CREATED:20210901T060457Z
LAST-MODIFIED:20210901T060457Z
UID:4664-1642233600-1642262400@htasobaseball.com
SUMMARY:2022 New Umpire Clinic-Week 1\, Day 2
DESCRIPTION:New members must attend two (2) weekends of the New Umpire Training to be scheduled games through HTASO.
URL:http://htasobaseball.com/event/2022-new-umpire-clinic-week-1-day-2/
LOCATION:TBD
CATEGORIES:Training
ATTACH;FMTTYPE=image/jpeg:http://htasobaseball.com/wp-content/uploads/2021/09/Umpire-RRTmlN.tmp_.jpg
END:VEVENT
BEGIN:VEVENT
DTSTART;TZID=America/Chicago:20220114T183000
DTEND;TZID=America/Chicago:20220114T210000
DTSTAMP:20260420T062507
CREATED:20210901T060457Z
LAST-MODIFIED:20210901T060457Z
UID:4662-1642185000-1642194000@htasobaseball.com
SUMMARY:2022 New Umpire Clinic-Week 1\, Day 1
DESCRIPTION:New members must attend two (2) weekends of the New Umpire Training to be scheduled games through HTASO.
URL:http://htasobaseball.com/event/2022-new-umpire-clinic-week-1-day-1/
LOCATION:TBD
CATEGORIES:Training
ATTACH;FMTTYPE=image/jpeg:http://htasobaseball.com/wp-content/uploads/2021/09/Umpire-RRTmlN.tmp_.jpg
END:VEVENT
BEGIN:VEVENT
DTSTART;TZID=America/Chicago:20220112T183000
DTEND;TZID=America/Chicago:20220112T210000
DTSTAMP:20260420T062507
CREATED:20210901T060257Z
LAST-MODIFIED:20211110T234951Z
UID:4660-1642012200-1642021200@htasobaseball.com
SUMMARY:2022 General Membership Meeting-3
DESCRIPTION:General Membership MeetingMembers must attend 70% of chapter meetings to be eligible for Playoffs.
URL:http://htasobaseball.com/event/2022-general-membership-meeting-3/
LOCATION:Virtual Event
CATEGORIES:General Meetings,Training
ATTACH;FMTTYPE=image/jpeg:http://htasobaseball.com/wp-content/uploads/2021/09/selective-focus-grayscale-photography-of-baseball-773063-ahIa0x.tmp_.jpg
END:VEVENT
BEGIN:VEVENT
DTSTART;TZID=America/Chicago:20220109T080000
DTEND;TZID=America/Chicago:20220109T120000
DTSTAMP:20260420T062507
CREATED:20210901T060256Z
LAST-MODIFIED:20220106T043443Z
UID:4658-1641715200-1641729600@htasobaseball.com
SUMMARY:2022 TASO-Baseball State Clinic\, Day 3
DESCRIPTION:TASO-Baseball Division State Meeting. Sunday is training for the general membership. \n8am-12pm | 3 & 4-Man Mechanics (optional\, but required to be eligible for playoffs) \n9am-1pm | New Member On-Field Clinic at Grand Oaks HS baseball field
URL:http://htasobaseball.com/event/2022-taso-baseball-state-clinic-day-3/
LOCATION:The Woodlands Waterway Marriott Hotel & Convention Center\, 1601 Lake Robbins Drive\, The Woodlands\, TX\, 77380\, United States
CATEGORIES:Training
ATTACH;FMTTYPE=image/jpeg:http://htasobaseball.com/wp-content/uploads/2021/09/Umpire-RRTmlN.tmp_.jpg
ORGANIZER;CN="Josh White":MAILTO:dad9299@gmail.com
END:VEVENT
BEGIN:VEVENT
DTSTART;TZID=America/Chicago:20220108T080000
DTEND;TZID=America/Chicago:20220108T163000
DTSTAMP:20260420T062507
CREATED:20210901T060256Z
LAST-MODIFIED:20220106T043509Z
UID:4657-1641628800-1641659400@htasobaseball.com
SUMMARY:2022 TASO-Baseball State Clinic\, Day 2
DESCRIPTION:TASO-Baseball Division State Meeting. Saturday is training for all TASO Baseball members. \n7am-10am | Registration Open ($10 cash only\, if you did not register online) \n8am-11:50am | Breakout Sessions \n8am-11:50am | New Umpire Workshop \n11:50am-1:30pm | Lunch \n1:30pm-4:30pm | General Session \n  \n 
URL:http://htasobaseball.com/event/2022-taso-baseball-state-clinic-day-2/
LOCATION:The Woodlands Waterway Marriott Hotel & Convention Center\, 1601 Lake Robbins Drive\, The Woodlands\, TX\, 77380\, United States
CATEGORIES:Training
ATTACH;FMTTYPE=image/jpeg:http://htasobaseball.com/wp-content/uploads/2021/09/Umpire-RRTmlN.tmp_.jpg
ORGANIZER;CN="Josh White":MAILTO:dad9299@gmail.com
END:VEVENT
BEGIN:VEVENT
DTSTART;TZID=America/Chicago:20220107T080000
DTEND;TZID=America/Chicago:20220107T170000
DTSTAMP:20260420T062507
CREATED:20210901T060056Z
LAST-MODIFIED:20220106T043542Z
UID:4656-1641542400-1641574800@htasobaseball.com
SUMMARY:2022 TASO-Baseball State Clinic\, Day 1 (Officers Only)
DESCRIPTION:TASO-Baseball Division State Meeting \nChapter Presidents and Secretaries only–meeting \nVendors are open from 8am-5pm.
URL:http://htasobaseball.com/event/2022-taso-baseball-state-clinic-day-1-officers-only/
LOCATION:The Woodlands Waterway Marriott Hotel & Convention Center\, 1601 Lake Robbins Drive\, The Woodlands\, TX\, 77380\, United States
CATEGORIES:Training
ATTACH;FMTTYPE=image/jpeg:http://htasobaseball.com/wp-content/uploads/2021/09/Umpire-RRTmlN.tmp_.jpg
ORGANIZER;CN="Josh White":MAILTO:dad9299@gmail.com
END:VEVENT
BEGIN:VEVENT
DTSTART;TZID=America/Chicago:20211215T183000
DTEND;TZID=America/Chicago:20211215T210000
DTSTAMP:20260420T062507
CREATED:20210901T060041Z
LAST-MODIFIED:20211110T234753Z
UID:4650-1639593000-1639602000@htasobaseball.com
SUMMARY:2021-22 General Membership Meeting-2
DESCRIPTION:General Membership MeetingMembers must attend 70% of chapter meetings to be eligible for Playoffs.
URL:http://htasobaseball.com/event/2021-22-general-membership-meeting-2/
LOCATION:Virtual Event
CATEGORIES:General Meetings,Training
END:VEVENT
BEGIN:VEVENT
DTSTART;TZID=America/Chicago:20211208T183000
DTEND;TZID=America/Chicago:20211208T210000
DTSTAMP:20260420T062507
CREATED:20210901T060055Z
LAST-MODIFIED:20211110T234857Z
UID:4654-1638988200-1638997200@htasobaseball.com
SUMMARY:2021-22 General Membership Meeting-1
DESCRIPTION:General Membership MeetingMembers must attend 70% of chapter meetings to be eligible for Playoffs.
URL:http://htasobaseball.com/event/2021-22-general-membership-meeting-1/
LOCATION:Virtual Event
CATEGORIES:General Meetings,Training
ATTACH;FMTTYPE=image/jpeg:http://htasobaseball.com/wp-content/uploads/2021/09/selective-focus-grayscale-photography-of-baseball-773063-ahIa0x.tmp_.jpg
END:VEVENT
BEGIN:VEVENT
DTSTART;VALUE=DATE:20211207
DTEND;VALUE=DATE:20211226
DTSTAMP:20260420T062507
CREATED:20211213T191632Z
LAST-MODIFIED:20211213T205102Z
UID:4777-1638835200-1640476799@htasobaseball.com
SUMMARY:TASO-Baseball Division Annual Meeting Registration
DESCRIPTION:Register HERE.  There is no cost to attend.  Fees are already included in your TASO membership dues.  There will be a $10 fee for late/on-site registrations. \nRegistration is open until Dec. 25th at no cost. \nAfter registration closes\, there will be a $10 fee for on-site registration at the meeting. \n\nJan. 8\n\nBreakout Sessions\nGeneral Session\nNew Member Training Session\n\n\nJan. 9\n\n3 & 4-Man Umpire Mechanics\nNew Member On-Field Clinic
URL:http://htasobaseball.com/event/taso-baseball-division-annual-meeting-registration/
LOCATION:The Woodlands Waterway Marriott Hotel & Convention Center\, 1601 Lake Robbins Drive\, The Woodlands\, TX\, 77380\, United States
CATEGORIES:Notification,Training
ORGANIZER;CN="Josh White":MAILTO:dad9299@gmail.com
END:VEVENT
BEGIN:VEVENT
DTSTART;TZID=America/Chicago:20211204T183000
DTEND;TZID=America/Chicago:20211204T210000
DTSTAMP:20260420T062507
CREATED:20210901T060055Z
LAST-MODIFIED:20210901T060055Z
UID:4653-1638642600-1638651600@htasobaseball.com
SUMMARY:2021-22 New Umpire Orientation-Dec
DESCRIPTION:New Umpire OrientationThis class is an introduction into TASO Baseball-Houston Chapter.  Attendance to one of the orientations is a requirement for any new member and any returning member with a significant break in service.  This class will be held via a virtual presentation and a link will be provided after registering.
URL:http://htasobaseball.com/event/2021-22-new-umpire-orientation-dec/
LOCATION:Virtual Event
CATEGORIES:Training
ATTACH;FMTTYPE=image/jpeg:http://htasobaseball.com/wp-content/uploads/2021/09/Umpire-RRTmlN.tmp_.jpg
ORGANIZER;CN="Ted Volf":MAILTO:umpted48@gmail.com
END:VEVENT
BEGIN:VEVENT
DTSTART;TZID=America/Chicago:20211106T183000
DTEND;TZID=America/Chicago:20211106T210000
DTSTAMP:20260420T062507
CREATED:20210901T060040Z
LAST-MODIFIED:20210901T060040Z
UID:4649-1636223400-1636232400@htasobaseball.com
SUMMARY:2021-22 New Umpire Orientation-Nov
DESCRIPTION:New Umpire OrientationThis class is an introduction into TASO Baseball-Houston Chapter.  Attendance to one of the orientations is a requirement for any new member and any returning member with a significant break in service.  This class will be held via a virtual presentation and a link will be provided after registering.
URL:http://htasobaseball.com/event/2021-22-new-umpire-orientation-nov/
LOCATION:Virtual Event
CATEGORIES:Training
ORGANIZER;CN="Ted Volf":MAILTO:umpted48@gmail.com
END:VEVENT
BEGIN:VEVENT
DTSTART;TZID=America/Chicago:20211014T183000
DTEND;TZID=America/Chicago:20211014T210000
DTSTAMP:20260420T062507
CREATED:20210901T060039Z
LAST-MODIFIED:20210901T060039Z
UID:4645-1634236200-1634245200@htasobaseball.com
SUMMARY:2021-22 New Umpire Orientation-Oct
DESCRIPTION:New Umpire OrientationThis class is an introduction into TASO Baseball-Houston Chapter.  Attendance to one of the orientations is a requirement for any new member and any returning member with a significant break in service.  This class will be held via a virtual presentation and a link will be provided after registering.
URL:http://htasobaseball.com/event/2021-22-new-umpire-orientation-oct/
LOCATION:Virtual Event
CATEGORIES:Training
ORGANIZER;CN="Ted Volf":MAILTO:umpted48@gmail.com
END:VEVENT
BEGIN:VEVENT
DTSTART;TZID=America/Chicago:20210908T183000
DTEND;TZID=America/Chicago:20210908T210000
DTSTAMP:20260420T062507
CREATED:20210901T060033Z
LAST-MODIFIED:20210901T060033Z
UID:4642-1631125800-1631134800@htasobaseball.com
SUMMARY:2021-22 New Umpire Orientation-Sep
DESCRIPTION:New Umpire OrientationThis class is an introduction into TASO Baseball-Houston Chapter.  Attendance to one of the orientations is a requirement for any new member and any returning member with a significant break in service.  This class will be held via a virtual presentation and a link will be provided after registering.
URL:http://htasobaseball.com/event/2021-22-new-umpire-orientation-sep/
LOCATION:Virtual Event
CATEGORIES:Training
ATTACH;FMTTYPE=image/jpeg:http://htasobaseball.com/wp-content/uploads/2021/09/Umpire-RRTmlN.tmp_.jpg
ORGANIZER;CN="Ted Volf":MAILTO:umpted48@gmail.com
END:VEVENT
BEGIN:VEVENT
DTSTART;TZID=America/Chicago:20210814T183000
DTEND;TZID=America/Chicago:20210814T210000
DTSTAMP:20260420T062507
CREATED:20210901T060033Z
LAST-MODIFIED:20210901T060033Z
UID:4641-1628965800-1628974800@htasobaseball.com
SUMMARY:2021-22 New Umpire Orientation-Aug
DESCRIPTION:New Umpire OrientationThis class is an introduction into TASO Baseball-Houston Chapter.  Attendance to one of the orientations is a requirement for any new member and any returning member with a significant break in service.  This class will be held via a virtual presentation and a link will be provided after registering.
URL:http://htasobaseball.com/event/2021-22-new-umpire-orientation-aug/
LOCATION:Virtual Event
CATEGORIES:Training
ATTACH;FMTTYPE=image/jpeg:http://htasobaseball.com/wp-content/uploads/2021/09/Umpire-RRTmlN.tmp_.jpg
ORGANIZER;CN="Ted Volf":MAILTO:umpted48@gmail.com
END:VEVENT
BEGIN:VEVENT
DTSTART;TZID=America/Chicago:20210502T143000
DTEND;TZID=America/Chicago:20210502T183000
DTSTAMP:20260420T062507
CREATED:20210424T232309Z
LAST-MODIFIED:20210424T232540Z
UID:4575-1619965800-1619980200@htasobaseball.com
SUMMARY:3 & 4-Man Clinic
DESCRIPTION:2:30 @ Langham Creek HS \nThis clinic is dependent on the weather since it is not a turf field. \nRequirements:  Base uniform only
URL:http://htasobaseball.com/event/3-4-man-clinic-2/
LOCATION:Langham Creek High School\, 17610 Farm to Market Rd 529\, Houston\, TX\, 77095\, United States
CATEGORIES:Training
ATTACH;FMTTYPE=image/jpeg:http://htasobaseball.com/wp-content/uploads/2020/02/Umpire.jpg
END:VEVENT
BEGIN:VEVENT
DTSTART;TZID=America/Chicago:20210425T143000
DTEND;TZID=America/Chicago:20210425T183000
DTSTAMP:20260420T062507
CREATED:20200815T053416Z
LAST-MODIFIED:20210424T232503Z
UID:4089-1619361000-1619375400@htasobaseball.com
SUMMARY:3 & 4-Man Clinic
DESCRIPTION:2:30pm @ C.E. King High School \n2:30pm @ Langham Creek High School. (RAINED OUT) \nRequirements: Base uniform only \nIf weather does not permit\, we may fall back to Barbers Hill HS.  They have an indoor training facility that we can use. \n 
URL:http://htasobaseball.com/event/3-4-man-clinic/
LOCATION:C.E. King\, 11433 East Sam Houston Pkwy N.\, Houston\, TX\, 77044\, United States
CATEGORIES:Training
ATTACH;FMTTYPE=image/jpeg:http://htasobaseball.com/wp-content/uploads/2020/02/Umpire.jpg
END:VEVENT
BEGIN:VEVENT
DTSTART;TZID=America/Chicago:20210227T080000
DTEND;TZID=America/Chicago:20210227T160000
DTSTAMP:20260420T062507
CREATED:20200815T053408Z
LAST-MODIFIED:20201121T202919Z
UID:4084-1614412800-1614441600@htasobaseball.com
SUMMARY:Scrimmage Evaluations-4
DESCRIPTION:Varsity Evaluations will be conducted at different HS scrimmages thoughout the HTASO coverage area.  Contact Alfredo Sanut to be scheduled.
URL:http://htasobaseball.com/event/scrimmage-evaluations-4/
LOCATION:TBD
CATEGORIES:Evaluation,Training
END:VEVENT
BEGIN:VEVENT
DTSTART;TZID=America/Chicago:20210220T080000
DTEND;TZID=America/Chicago:20210220T160000
DTSTAMP:20260420T062507
CREATED:20200815T053404Z
LAST-MODIFIED:20201121T202919Z
UID:4081-1613808000-1613836800@htasobaseball.com
SUMMARY:Scrimmage Evaluations-3
DESCRIPTION:Varsity Evaluations will be conducted at different HS scrimmages thoughout the HTASO coverage area.  Contact Alfredo Sanut to be scheduled.
URL:http://htasobaseball.com/event/scrimmage-evaluations-3/
LOCATION:TBD
CATEGORIES:Evaluation,Training
END:VEVENT
BEGIN:VEVENT
DTSTART;TZID=America/Chicago:20210213T080000
DTEND;TZID=America/Chicago:20210213T160000
DTSTAMP:20260420T062507
CREATED:20200815T053402Z
LAST-MODIFIED:20201121T202919Z
UID:4079-1613203200-1613232000@htasobaseball.com
SUMMARY:Scrimmage Evaluations-2
DESCRIPTION:Varsity Evaluations will be conducted at different HS scrimmages thoughout the HTASO coverage area.  Contact Alfredo Sanut to be scheduled.
URL:http://htasobaseball.com/event/scrimmage-evaluations-2/
LOCATION:TBD
CATEGORIES:Evaluation,Training
END:VEVENT
END:VCALENDAR