BEGIN:VCALENDAR
VERSION:2.0
PRODID:-//Houston TASO - ECPv6.15.20//NONSGML v1.0//EN
CALSCALE:GREGORIAN
METHOD:PUBLISH
X-ORIGINAL-URL:http://htasobaseball.com
X-WR-CALDESC:Events for Houston TASO
REFRESH-INTERVAL;VALUE=DURATION:PT1H
X-Robots-Tag:noindex
X-PUBLISHED-TTL:PT1H
BEGIN:VTIMEZONE
TZID:America/Chicago
BEGIN:DAYLIGHT
TZOFFSETFROM:-0600
TZOFFSETTO:-0500
TZNAME:CDT
DTSTART:20200308T080000
END:DAYLIGHT
BEGIN:STANDARD
TZOFFSETFROM:-0500
TZOFFSETTO:-0600
TZNAME:CST
DTSTART:20201101T070000
END:STANDARD
BEGIN:DAYLIGHT
TZOFFSETFROM:-0600
TZOFFSETTO:-0500
TZNAME:CDT
DTSTART:20210314T080000
END:DAYLIGHT
BEGIN:STANDARD
TZOFFSETFROM:-0500
TZOFFSETTO:-0600
TZNAME:CST
DTSTART:20211107T070000
END:STANDARD
BEGIN:DAYLIGHT
TZOFFSETFROM:-0600
TZOFFSETTO:-0500
TZNAME:CDT
DTSTART:20220313T080000
END:DAYLIGHT
BEGIN:STANDARD
TZOFFSETFROM:-0500
TZOFFSETTO:-0600
TZNAME:CST
DTSTART:20221106T070000
END:STANDARD
END:VTIMEZONE
BEGIN:VEVENT
DTSTART;VALUE=DATE:20210401
DTEND;VALUE=DATE:20210402
DTSTAMP:20260421T025657
CREATED:20200815T053411Z
LAST-MODIFIED:20201121T202708Z
UID:4086-1617235200-1617321599@htasobaseball.com
SUMMARY:"State Tournament Crew Officials" Due
DESCRIPTION:Submit top crew members to UIL for playoff selection.
URL:http://htasobaseball.com/event/state-tournament-crew-officials-due/
CATEGORIES:Deadline
ORGANIZER;CN="Josh White":MAILTO:dad9299@gmail.com
END:VEVENT
BEGIN:VEVENT
DTSTART;TZID=America/Chicago:20210303T180000
DTEND;TZID=America/Chicago:20210303T210000
DTSTAMP:20260421T025657
CREATED:20200815T053410Z
LAST-MODIFIED:20201121T202708Z
UID:4085-1614794400-1614805200@htasobaseball.com
SUMMARY:BOD Meeting-Mar
DESCRIPTION:Board of Directors Meeting
URL:http://htasobaseball.com/event/bod-meeting-mar/
LOCATION:Tracy Gee Community Center\, 3599 Westcenter Dr.\, Houston\, TX\, 77042\, United States
CATEGORIES:Board Meetings
ORGANIZER;CN="Josh White":MAILTO:dad9299@gmail.com
END:VEVENT
BEGIN:VEVENT
DTSTART;TZID=America/Chicago:20210227T080000
DTEND;TZID=America/Chicago:20210227T160000
DTSTAMP:20260421T025657
CREATED:20200815T053408Z
LAST-MODIFIED:20201121T202919Z
UID:4084-1614412800-1614441600@htasobaseball.com
SUMMARY:Scrimmage Evaluations-4
DESCRIPTION:Varsity Evaluations will be conducted at different HS scrimmages thoughout the HTASO coverage area.  Contact Alfredo Sanut to be scheduled.
URL:http://htasobaseball.com/event/scrimmage-evaluations-4/
LOCATION:TBD
CATEGORIES:Evaluation,Training
END:VEVENT
BEGIN:VEVENT
DTSTART;VALUE=DATE:20210223
DTEND;VALUE=DATE:20210224
DTSTAMP:20260421T025657
CREATED:20200815T053403Z
LAST-MODIFIED:20210214T033138Z
UID:4080-1614038400-1614124799@htasobaseball.com
SUMMARY:Second Release of Games
DESCRIPTION:Varsity auto-assigned games and JV self-assign games will be released for the remainder of the season.
URL:http://htasobaseball.com/event/second-release-of-auto-assigned-games/
CATEGORIES:Notification
ORGANIZER;CN="Charlie Strasser":MAILTO:charliestrasser@me.com
END:VEVENT
BEGIN:VEVENT
DTSTART;VALUE=DATE:20210222
DTEND;VALUE=DATE:20210224
DTSTAMP:20260421T025657
CREATED:20200815T053406Z
LAST-MODIFIED:20201121T202949Z
UID:4083-1613952000-1614124799@htasobaseball.com
SUMMARY:UIL Regular Season Begins
DESCRIPTION:
URL:http://htasobaseball.com/event/uil-regular-season-begins/
CATEGORIES:Notification
END:VEVENT
BEGIN:VEVENT
DTSTART;VALUE=DATE:20210222
DTEND;VALUE=DATE:20210223
DTSTAMP:20260421T025657
CREATED:20200815T053405Z
LAST-MODIFIED:20201121T202919Z
UID:4082-1613952000-1614038399@htasobaseball.com
SUMMARY:Online Rules Exam & Clinic-CLOSED
DESCRIPTION:
URL:http://htasobaseball.com/event/online-rules-exam-clinic-closed/
LOCATION:Virtual Event
CATEGORIES:Notification
END:VEVENT
BEGIN:VEVENT
DTSTART;TZID=America/Chicago:20210220T080000
DTEND;TZID=America/Chicago:20210220T160000
DTSTAMP:20260421T025657
CREATED:20200815T053404Z
LAST-MODIFIED:20201121T202919Z
UID:4081-1613808000-1613836800@htasobaseball.com
SUMMARY:Scrimmage Evaluations-3
DESCRIPTION:Varsity Evaluations will be conducted at different HS scrimmages thoughout the HTASO coverage area.  Contact Alfredo Sanut to be scheduled.
URL:http://htasobaseball.com/event/scrimmage-evaluations-3/
LOCATION:TBD
CATEGORIES:Evaluation,Training
END:VEVENT
BEGIN:VEVENT
DTSTART;VALUE=DATE:20210215
DTEND;VALUE=DATE:20210216
DTSTAMP:20260421T025657
CREATED:20200815T053359Z
LAST-MODIFIED:20210214T033107Z
UID:4078-1613347200-1613433599@htasobaseball.com
SUMMARY:First Release of Games
DESCRIPTION:Varsity auto-assigned games and JV self-assign games will be released for the first 3 weeks of regular season.
URL:http://htasobaseball.com/event/first-release-of-auto-assigned-games/
CATEGORIES:Notification
ORGANIZER;CN="Charlie Strasser":MAILTO:charliestrasser@me.com
END:VEVENT
BEGIN:VEVENT
DTSTART;TZID=America/Chicago:20210213T080000
DTEND;TZID=America/Chicago:20210213T160000
DTSTAMP:20260421T025657
CREATED:20200815T053402Z
LAST-MODIFIED:20201121T202919Z
UID:4079-1613203200-1613232000@htasobaseball.com
SUMMARY:Scrimmage Evaluations-2
DESCRIPTION:Varsity Evaluations will be conducted at different HS scrimmages thoughout the HTASO coverage area.  Contact Alfredo Sanut to be scheduled.
URL:http://htasobaseball.com/event/scrimmage-evaluations-2/
LOCATION:TBD
CATEGORIES:Evaluation,Training
END:VEVENT
BEGIN:VEVENT
DTSTART;TZID=America/Chicago:20210206T080000
DTEND;TZID=America/Chicago:20210206T160000
DTSTAMP:20260421T025657
CREATED:20200815T053357Z
LAST-MODIFIED:20201121T202919Z
UID:4076-1612598400-1612627200@htasobaseball.com
SUMMARY:Scrimmage Evaluations-1
DESCRIPTION:Varsity Evaluations will be conducted at different HS scrimmages thoughout the HTASO coverage area.  Contact Alfredo Sanut to be scheduled.
URL:http://htasobaseball.com/event/scrimmage-evaluations-1/
LOCATION:TBD
CATEGORIES:Evaluation,Training
END:VEVENT
BEGIN:VEVENT
DTSTART;TZID=America/Chicago:20210205T180000
DTEND;TZID=America/Chicago:20210206T233000
DTSTAMP:20260421T025657
CREATED:20200815T053355Z
LAST-MODIFIED:20210204T010735Z
UID:4075-1612548000-1612654200@htasobaseball.com
SUMMARY:Release of Tournament Games
DESCRIPTION:All tournaments will be released.  There will not be a second release. \nSub-varsity umpires may not self-assign themselves for Varsity games.\n 
URL:http://htasobaseball.com/event/first-release-of-tournament-games/
CATEGORIES:Notification
ORGANIZER;CN="Charlie Strasser":MAILTO:charliestrasser@me.com
END:VEVENT
BEGIN:VEVENT
DTSTART;TZID=America/Chicago:20210203T180000
DTEND;TZID=America/Chicago:20210203T210000
DTSTAMP:20260421T025657
CREATED:20200815T053354Z
LAST-MODIFIED:20201121T202708Z
UID:4074-1612375200-1612386000@htasobaseball.com
SUMMARY:BOD Meeting-Feb
DESCRIPTION:Board of Directors Meeting
URL:http://htasobaseball.com/event/bod-meeting-feb/
LOCATION:Tracy Gee Community Center\, 3599 Westcenter Dr.\, Houston\, TX\, 77042\, United States
CATEGORIES:Board Meetings
ORGANIZER;CN="Josh White":MAILTO:dad9299@gmail.com
END:VEVENT
BEGIN:VEVENT
DTSTART;TZID=America/Chicago:20210131T090000
DTEND;TZID=America/Chicago:20210131T150000
DTSTAMP:20260421T025657
CREATED:20210131T015517Z
LAST-MODIFIED:20210131T015934Z
UID:4508-1612083600-1612105200@htasobaseball.com
SUMMARY:New Umpire Clinic-Week 3\, Day 3
DESCRIPTION:Location:  C.E. King HS \nBring COVID mask\, plate mask\, and water.  Bring a glove if you have it.
URL:http://htasobaseball.com/event/new-umpire-clinic-week-3-day-3/
LOCATION:C.E. King\, 11433 East Sam Houston Pkwy N.\, Houston\, TX\, 77044\, United States
CATEGORIES:Training
END:VEVENT
BEGIN:VEVENT
DTSTART;VALUE=DATE:20210131
DTEND;VALUE=DATE:20210201
DTSTAMP:20260421T025657
CREATED:20210131T015802Z
LAST-MODIFIED:20210131T015802Z
UID:4511-1612051200-1612137599@htasobaseball.com
SUMMARY:Members in Bad Standing--ZW Accounts Locked
DESCRIPTION:Any member in bad standing will have their access to ZebraWeb blocked until dues are paid and/or have achieved a passing score on the rules exam.
URL:http://htasobaseball.com/event/members-in-bad-standing-zw-accounts-locked/
CATEGORIES:Deadline,Notification
ORGANIZER;CN="Josh White":MAILTO:dad9299@gmail.com
END:VEVENT
BEGIN:VEVENT
DTSTART;VALUE=DATE:20210131
DTEND;VALUE=DATE:20210201
DTSTAMP:20260421T025657
CREATED:20200815T053350Z
LAST-MODIFIED:20201121T202848Z
UID:4072-1612051200-1612137599@htasobaseball.com
SUMMARY:New Rankings Submitted to Secretary
DESCRIPTION:New umpire rankings must be submitted before games are released.
URL:http://htasobaseball.com/event/new-rankings-submitted-to-secretary/
CATEGORIES:Deadline
ORGANIZER;CN="Josh White":MAILTO:dad9299@gmail.com
END:VEVENT
BEGIN:VEVENT
DTSTART;VALUE=DATE:20210131
DTEND;VALUE=DATE:20210201
DTSTAMP:20260421T025657
CREATED:20200815T053349Z
LAST-MODIFIED:20201121T202848Z
UID:4071-1612051200-1612137599@htasobaseball.com
SUMMARY:Chapter's School Coverage Report Due
DESCRIPTION:A list of schools and districts covered by HTASO are due to TASO for playoff crew selection criteria.
URL:http://htasobaseball.com/event/chapters-school-coverage-report-due/
CATEGORIES:Deadline
ORGANIZER;CN="Josh White":MAILTO:dad9299@gmail.com
END:VEVENT
BEGIN:VEVENT
DTSTART;TZID=America/Chicago:20210130T080000
DTEND;TZID=America/Chicago:20210130T160000
DTSTAMP:20260421T025657
CREATED:20200815T053348Z
LAST-MODIFIED:20210123T230318Z
UID:4070-1611993600-1612022400@htasobaseball.com
SUMMARY:New Umpire Clinic-Week 3\, Day 2
DESCRIPTION:On-Field Training \nBring all your gear.  We will be working live games. \nLocation 1: \nAtascocita High School:  8am-5pm \nLocation 2: \nCollege Park High School:  10am-4pm \nLocation 3: \nMemorial High School: 12:30pm-4:30pm
URL:http://htasobaseball.com/event/new-umpire-clinic-week-3-day-2/
LOCATION:TBD
CATEGORIES:Training
END:VEVENT
BEGIN:VEVENT
DTSTART;TZID=America/Chicago:20210129T180000
DTEND;TZID=America/Chicago:20210129T210000
DTSTAMP:20260421T025657
CREATED:20200815T053347Z
LAST-MODIFIED:20210116T222244Z
UID:4069-1611943200-1611954000@htasobaseball.com
SUMMARY:New Umpire Clinic-Week 3\, Day 1
DESCRIPTION:New members must attend two (2) weekends of the New Umpire Training to be scheduled through HTASO. \nThis will be conducted via Zoom.  You will receive a link to join prior to the meeting.
URL:http://htasobaseball.com/event/new-umpire-clinic-week-3-day-1/
LOCATION:Virtual Event
CATEGORIES:Training
END:VEVENT
BEGIN:VEVENT
DTSTART;TZID=America/Chicago:20210124T090000
DTEND;TZID=America/Chicago:20210124T150000
DTSTAMP:20260421T025657
CREATED:20200815T053345Z
LAST-MODIFIED:20210124T012938Z
UID:4068-1611478800-1611500400@htasobaseball.com
SUMMARY:New Umpire Clinic-Week 2\, Day 3
DESCRIPTION:**Updated 1/23 @ 7:30pm** \nOn-Field Training \nNew Location:  C.E. King HS \nArrive in your base uniform with your plate mask\, COVID mask\, and water.
URL:http://htasobaseball.com/event/new-umpire-clinic-week-2-day-3/
LOCATION:C.E. King\, 11433 East Sam Houston Pkwy N.\, Houston\, TX\, 77044\, United States
CATEGORIES:Training
END:VEVENT
BEGIN:VEVENT
DTSTART;TZID=America/Chicago:20210123T090000
DTEND;TZID=America/Chicago:20210123T150000
DTSTAMP:20260421T025657
CREATED:20200815T053344Z
LAST-MODIFIED:20210123T032556Z
UID:4067-1611392400-1611414000@htasobaseball.com
SUMMARY:New Umpire Clinic-Week 2\, Day 2
DESCRIPTION:**UPDATED  1/22** \nOn-Field Training \nWhere:  CE King HS \n11433 East Sam Houston Pkwy N\, Houston\, TX 77044 \nCome in off Garrett Rd. to get to field. \nArrive in your base uniform with your plate mask\, COVID mask\, and water.
URL:http://htasobaseball.com/event/new-umpire-clinic-week-2-day-2/
LOCATION:C.E. King\, 11433 East Sam Houston Pkwy N.\, Houston\, TX\, 77044\, United States
CATEGORIES:Training
END:VEVENT
BEGIN:VEVENT
DTSTART;TZID=America/Chicago:20210122T180000
DTEND;TZID=America/Chicago:20210122T210000
DTSTAMP:20260421T025657
CREATED:20200815T053342Z
LAST-MODIFIED:20210116T215035Z
UID:4066-1611338400-1611349200@htasobaseball.com
SUMMARY:New Umpire Clinic-Week 2\, Day 1
DESCRIPTION:New members must attend two (2) weekends of the New Umpire Training to be scheduled through HTASO. \nConducted via Zoom.  You will receive an email with a link prior to the meeting.
URL:http://htasobaseball.com/event/new-umpire-clinic-week-2-day-1/
LOCATION:Virtual Event
CATEGORIES:Training
END:VEVENT
BEGIN:VEVENT
DTSTART;TZID=America/Chicago:20210120T183000
DTEND;TZID=America/Chicago:20210120T210000
DTSTAMP:20260421T025657
CREATED:20200815T053341Z
LAST-MODIFIED:20201121T202919Z
UID:4065-1611167400-1611176400@htasobaseball.com
SUMMARY:Rules Clinic & General Membership Meeting-4
DESCRIPTION:Rules Clinic and General Membership MeetingMembers must attend 70% of chapter meetings to be eligible for Playoffs.  This meeting is required if a member has not attended the State Meeting\, Regional Clinic\, or the online rules clinic.
URL:http://htasobaseball.com/event/rules-clinic-general-membership-meeting-4/
LOCATION:Tracy Gee Community Center\, 3599 Westcenter Dr.\, Houston\, TX\, 77042\, United States
CATEGORIES:General Meetings,Training
ORGANIZER;CN="Josh White":MAILTO:dad9299@gmail.com
END:VEVENT
BEGIN:VEVENT
DTSTART;TZID=America/Chicago:20210118T183000
DTEND;TZID=America/Chicago:20210118T210000
DTSTAMP:20260421T025657
CREATED:20210118T002929Z
LAST-MODIFIED:20210118T003038Z
UID:4476-1610994600-1611003600@htasobaseball.com
SUMMARY:New Umpire Orientation--January
DESCRIPTION:This class is an introduction into TASO Baseball-Houston Chapter.  Attendance to one of the orientations is a requirement for any new member and any returning member with a significant break in service.  This class will be held via a virtual presentation and a link will be provided after registering. \nThis is the last Orientation for the 2021 Season.  Do not miss it!!
URL:http://htasobaseball.com/event/new-umpire-orientation-january/
LOCATION:TBD
CATEGORIES:Training
END:VEVENT
BEGIN:VEVENT
DTSTART;TZID=America/Chicago:20210117T090000
DTEND;TZID=America/Chicago:20210117T150000
DTSTAMP:20260421T025657
CREATED:20200815T053340Z
LAST-MODIFIED:20210116T214751Z
UID:4064-1610874000-1610895600@htasobaseball.com
SUMMARY:New Umpire Clinic-Week 1\, Day 3
DESCRIPTION:Where:  Humble High School–Baseball Field \nCome dressed in your base uniform and appropriate attire for the weather. \nBring your mask for the plate and your face mask. \nThe field is on the east side of the school\, next to the football stadium.
URL:http://htasobaseball.com/event/new-umpire-clinic-week-1-day-3/
LOCATION:Humble High School\, 1700 Wilson Rd.\, Humble\, TX\, 77338\, United States
CATEGORIES:Training
END:VEVENT
BEGIN:VEVENT
DTSTART;TZID=America/Chicago:20210116T083000
DTEND;TZID=America/Chicago:20210116T120000
DTSTAMP:20260421T025657
CREATED:20200815T053338Z
LAST-MODIFIED:20201121T202949Z
UID:4063-1610785800-1610798400@htasobaseball.com
SUMMARY:Texas HS Baseball Coaches Assoc. Convention\, Day 3
DESCRIPTION:
URL:http://htasobaseball.com/event/texas-hs-baseball-coaches-assoc-convention-day-3/
CATEGORIES:Notification
END:VEVENT
BEGIN:VEVENT
DTSTART;TZID=America/Chicago:20210116T080000
DTEND;TZID=America/Chicago:20210116T160000
DTSTAMP:20260421T025657
CREATED:20200815T053337Z
LAST-MODIFIED:20210116T193215Z
UID:4062-1610784000-1610812800@htasobaseball.com
SUMMARY:New Umpire Clinic-Week 1\, Day 2
DESCRIPTION:New members must attend two (2) weekends of the New Umpire Training to be scheduled through HTASO. \nThis will be a Zoom meeting.
URL:http://htasobaseball.com/event/new-umpire-clinic-week-1-day-2/
LOCATION:Virtual Event
CATEGORIES:Training
END:VEVENT
BEGIN:VEVENT
DTSTART;TZID=America/Chicago:20210115T180000
DTEND;TZID=America/Chicago:20210115T210000
DTSTAMP:20260421T025657
CREATED:20200815T053334Z
LAST-MODIFIED:20210114T021914Z
UID:4060-1610733600-1610744400@htasobaseball.com
SUMMARY:New Umpire Clinic-Week 1\, Day 1
DESCRIPTION:New members must attend two (2) weekends of the New Umpire Training to be scheduled through HTASO.
URL:http://htasobaseball.com/event/new-umpire-clinic-week-1-day-1/
LOCATION:Virtual Event
CATEGORIES:Training
END:VEVENT
BEGIN:VEVENT
DTSTART;TZID=America/Chicago:20210115T090000
DTEND;TZID=America/Chicago:20210115T170000
DTSTAMP:20260421T025657
CREATED:20200815T053336Z
LAST-MODIFIED:20201121T202949Z
UID:4061-1610701200-1610730000@htasobaseball.com
SUMMARY:Texas HS Baseball Coaches Assoc. Convention\, Day 2
DESCRIPTION:
URL:http://htasobaseball.com/event/texas-hs-baseball-coaches-assoc-convention-day-2/
CATEGORIES:Notification
END:VEVENT
BEGIN:VEVENT
DTSTART;TZID=America/Chicago:20210114T160000
DTEND;TZID=America/Chicago:20210114T190000
DTSTAMP:20260421T025657
CREATED:20200815T053333Z
LAST-MODIFIED:20201121T202948Z
UID:4059-1610640000-1610650800@htasobaseball.com
SUMMARY:Texas HS Baseball Coaches Assoc. Convention\, Day 1
DESCRIPTION:
URL:http://htasobaseball.com/event/texas-hs-baseball-coaches-assoc-convention-day-1/
CATEGORIES:Notification
END:VEVENT
BEGIN:VEVENT
DTSTART;TZID=America/Chicago:20210113T183000
DTEND;TZID=America/Chicago:20210113T210000
DTSTAMP:20260421T025657
CREATED:20200815T053331Z
LAST-MODIFIED:20201121T202848Z
UID:4058-1610562600-1610571600@htasobaseball.com
SUMMARY:General Membership Meeting-3
DESCRIPTION:General Membership MeetingMembers must attend 70% of chapter meetings to be eligible for Playoffs.
URL:http://htasobaseball.com/event/general-membership-meeting-3/
LOCATION:Virtual Event
CATEGORIES:General Meetings,Training
ORGANIZER;CN="Josh White":MAILTO:dad9299@gmail.com
END:VEVENT
END:VCALENDAR