BEGIN:VCALENDAR
VERSION:2.0
PRODID:-//Houston TASO - ECPv6.15.20//NONSGML v1.0//EN
CALSCALE:GREGORIAN
METHOD:PUBLISH
X-ORIGINAL-URL:http://htasobaseball.com
X-WR-CALDESC:Events for Houston TASO
REFRESH-INTERVAL;VALUE=DURATION:PT1H
X-Robots-Tag:noindex
X-PUBLISHED-TTL:PT1H
BEGIN:VTIMEZONE
TZID:America/Chicago
BEGIN:DAYLIGHT
TZOFFSETFROM:-0600
TZOFFSETTO:-0500
TZNAME:CDT
DTSTART:20190310T080000
END:DAYLIGHT
BEGIN:STANDARD
TZOFFSETFROM:-0500
TZOFFSETTO:-0600
TZNAME:CST
DTSTART:20191103T070000
END:STANDARD
BEGIN:DAYLIGHT
TZOFFSETFROM:-0600
TZOFFSETTO:-0500
TZNAME:CDT
DTSTART:20200308T080000
END:DAYLIGHT
BEGIN:STANDARD
TZOFFSETFROM:-0500
TZOFFSETTO:-0600
TZNAME:CST
DTSTART:20201101T070000
END:STANDARD
BEGIN:DAYLIGHT
TZOFFSETFROM:-0600
TZOFFSETTO:-0500
TZNAME:CDT
DTSTART:20210314T080000
END:DAYLIGHT
BEGIN:STANDARD
TZOFFSETFROM:-0500
TZOFFSETTO:-0600
TZNAME:CST
DTSTART:20211107T070000
END:STANDARD
BEGIN:DAYLIGHT
TZOFFSETFROM:-0600
TZOFFSETTO:-0500
TZNAME:CDT
DTSTART:20220313T080000
END:DAYLIGHT
BEGIN:STANDARD
TZOFFSETFROM:-0500
TZOFFSETTO:-0600
TZNAME:CST
DTSTART:20221106T070000
END:STANDARD
END:VTIMEZONE
BEGIN:VEVENT
DTSTART;TZID=America/Chicago:20210109T090000
DTEND;TZID=America/Chicago:20210109T170000
DTSTAMP:20260421T080003
CREATED:20200815T053330Z
LAST-MODIFIED:20201217T184247Z
UID:4057-1610182800-1610211600@htasobaseball.com
SUMMARY:TASO-Baseball State Meeting
DESCRIPTION:TASO-Baseball Division State Meeting. Saturday is training for the general membership. This will be a virtual event begining at 9am. It will be recorded and available for those who are in able to attend.
URL:http://htasobaseball.com/event/taso-baseball-state-meeting/
LOCATION:Virtual Event
CATEGORIES:Training
END:VEVENT
BEGIN:VEVENT
DTSTART;TZID=America/Chicago:20210106T180000
DTEND;TZID=America/Chicago:20210106T210000
DTSTAMP:20260421T080003
CREATED:20200815T053327Z
LAST-MODIFIED:20201121T202708Z
UID:4055-1609956000-1609966800@htasobaseball.com
SUMMARY:BOD Meeting-Jan
DESCRIPTION:Board of Directors Meeting
URL:http://htasobaseball.com/event/bod-meeting-jan/
LOCATION:Tracy Gee Community Center\, 3599 Westcenter Dr.\, Houston\, TX\, 77042\, United States
CATEGORIES:Board Meetings
ORGANIZER;CN="Josh White":MAILTO:dad9299@gmail.com
END:VEVENT
BEGIN:VEVENT
DTSTART;VALUE=DATE:20210101
DTEND;VALUE=DATE:20210222
DTSTAMP:20260421T080003
CREATED:20200815T053326Z
LAST-MODIFIED:20201121T202708Z
UID:4054-1609459200-1613951999@htasobaseball.com
SUMMARY:**LATE** State and Chapter Membership Fees Due
DESCRIPTION:The LAST DAY to pay State and/or Chapter Dues is 2/21/2020.\nTASO Fees + LATE FEE: New Members-$95\, Returning Members-$105\, Auxillary (<18yrs old)-$95.\nGo to https://taso.org and select the appropriate link for new or returning members. \nChapter Fees + LATE FEE: New Members-$85\, Returning Members-$50\n(Fees waived for returning members who were in good standing for 2019-20 season)\nGo to https://htasobaseball.com\, click “Online Store” and select the appropriate fee (a $2 service fee is assessed for online payments) or a check\, made payable to “TASO Baseball-Houston Chapter” may be sent to the Treasurer at:\nBruce Sanford\n12422 Morning Rain Dr.\nTomball\, TX 77377
URL:http://htasobaseball.com/event/late-state-and-chapter-membership-fees-due/
CATEGORIES:Deadline
END:VEVENT
BEGIN:VEVENT
DTSTART;TZID=America/Chicago:20201209T183000
DTEND;TZID=America/Chicago:20201209T210000
DTSTAMP:20260421T080003
CREATED:20200815T053324Z
LAST-MODIFIED:20201121T202848Z
UID:4053-1607538600-1607547600@htasobaseball.com
SUMMARY:General Membership Meeting-2
DESCRIPTION:General Membership MeetingMembers must attend 70% of chapter meetings to be eligible for Playoffs.
URL:http://htasobaseball.com/event/general-membership-meeting-2/
LOCATION:Virtual Event
CATEGORIES:General Meetings,Training
ATTACH;FMTTYPE=image/jpeg:http://htasobaseball.com/wp-content/uploads/2020/11/selective-focus-grayscale-photography-of-baseball-773063.jpg
ORGANIZER;CN="Josh White":MAILTO:dad9299@gmail.com
END:VEVENT
BEGIN:VEVENT
DTSTART;TZID=America/Chicago:20201205T183000
DTEND;TZID=America/Chicago:20201205T210000
DTSTAMP:20260421T080003
CREATED:20201121T193034Z
LAST-MODIFIED:20201121T202918Z
UID:4375-1607193000-1607202000@htasobaseball.com
SUMMARY:New Umpire Orientation-December
DESCRIPTION:This class is an introduction into TASO Baseball-Houston Chapter.  Attendance to one of the orientations is a requirement for any new member and any returning member with a significant break in service.  This class will be held via a virtual presentation and a link will be provided after registering.
URL:http://htasobaseball.com/event/new-umpire-orientation-december-2/
CATEGORIES:Training
ATTACH;FMTTYPE=image/jpeg:http://htasobaseball.com/wp-content/uploads/2020/02/Umpire.jpg
END:VEVENT
BEGIN:VEVENT
DTSTART;TZID=America/Chicago:20201202T180000
DTEND;TZID=America/Chicago:20201202T210000
DTSTAMP:20260421T080003
CREATED:20200815T053442Z
LAST-MODIFIED:20201201T170158Z
UID:4108-1606932000-1606942800@htasobaseball.com
SUMMARY:BOD Meeting-Dec
DESCRIPTION:Board of Directors Meeting
URL:http://htasobaseball.com/event/bod-meeting-dec-2/
LOCATION:Virtual Event
CATEGORIES:Board Meetings
ATTACH;FMTTYPE=image/jpeg:http://htasobaseball.com/wp-content/uploads/2020/11/selective-focus-grayscale-photography-of-baseball-773063.jpg
ORGANIZER;CN="Josh White":MAILTO:dad9299@gmail.com
END:VEVENT
BEGIN:VEVENT
DTSTART;TZID=America/Chicago:20201111T183000
DTEND;TZID=America/Chicago:20201111T210000
DTSTAMP:20260421T080003
CREATED:20200815T053321Z
LAST-MODIFIED:20201121T202848Z
UID:4050-1605119400-1605128400@htasobaseball.com
SUMMARY:General Membership Meeting-1
DESCRIPTION:General Membership MeetingMembers must attend 70% of chapter meetings to be eligible for Playoffs.
URL:http://htasobaseball.com/event/general-membership-meeting-1/
LOCATION:Virtual Event
CATEGORIES:General Meetings,Training
ORGANIZER;CN="Josh White":MAILTO:dad9299@gmail.com
END:VEVENT
BEGIN:VEVENT
DTSTART;VALUE=DATE:20201111
DTEND;VALUE=DATE:20210101
DTSTAMP:20260421T080003
CREATED:20201121T190924Z
LAST-MODIFIED:20201121T202919Z
UID:4370-1605052800-1609459199@htasobaseball.com
SUMMARY:State **LATE** and Chapter Membership Fees Due
DESCRIPTION:TASO Fees + LATE FEE: New Members-$95\, Returning Members-$105\, Auxillary (<18yrs old)-$95. Go to https://taso.org and select the appropriate link for new or returning members. \nChapter Fees: New Members-$60\, Returning Members-$25\, Late Fee-$25 if paid after 12/31/2020\n(Fees waived for returning members who were in good standing for 2019-20 season)\nGo to https://htasobaseball.com\, click “Online Store” and select the appropriate fee (a $2 service fee is assessed for online payments) or a check\, made payable to “TASO Baseball-Houston Chapter” may be sent to the Treasurer at:\nBruce Sanford\n12422 Morning Rain Dr.\nTomball\, TX 77377
URL:http://htasobaseball.com/event/state-late-and-chapter-membership-fees-due-3/
CATEGORIES:Deadline
ATTACH;FMTTYPE=image/jpeg:http://htasobaseball.com/wp-content/uploads/2020/11/selective-focus-grayscale-photography-of-baseball-773063.jpg
END:VEVENT
BEGIN:VEVENT
DTSTART;TZID=America/Chicago:20201104T180000
DTEND;TZID=America/Chicago:20201104T210000
DTSTAMP:20260421T080003
CREATED:20200815T053320Z
LAST-MODIFIED:20201121T202708Z
UID:4049-1604512800-1604523600@htasobaseball.com
SUMMARY:BOD Meeting-Nov
DESCRIPTION:Board of Directors Meeting
URL:http://htasobaseball.com/event/bod-meeting-nov/
LOCATION:Virtual Event
CATEGORIES:Board Meetings
ORGANIZER;CN="Josh White":MAILTO:dad9299@gmail.com
END:VEVENT
BEGIN:VEVENT
DTSTART;VALUE=DATE:20201101
DTEND;VALUE=DATE:20201102
DTSTAMP:20260421T080003
CREATED:20200815T053318Z
LAST-MODIFIED:20201121T202919Z
UID:4048-1604188800-1604275199@htasobaseball.com
SUMMARY:Proposed Constitutional Amendments Due
DESCRIPTION:Any proposed amendment must be submitted to the Chapter Secretary no later than 11/1 each year.  The proposed changes will be communicated to the general membership thirty (30) days prior to the next scheduled general meeting.
URL:http://htasobaseball.com/event/proposed-constitutional-amendments-due/
CATEGORIES:Notification
ORGANIZER;CN="Josh White":MAILTO:dad9299@gmail.com
END:VEVENT
BEGIN:VEVENT
DTSTART;TZID=America/Chicago:20201015T183000
DTEND;TZID=America/Chicago:20201015T210000
DTSTAMP:20260421T080003
CREATED:20200815T053316Z
LAST-MODIFIED:20201121T202918Z
UID:4047-1602786600-1602795600@htasobaseball.com
SUMMARY:New Umpire Orientation-October
DESCRIPTION:This class is an introduction into TASO Baseball-Houston Chapter.  Attendance to one of the orientations is a requirement for any new member and any returning member with a significant break in service.  This class will be held via a virtual presentation and a link will be provided after registering.
URL:http://htasobaseball.com/event/new-umpire-orientation-october/
LOCATION:Virtual Event
CATEGORIES:Training
ORGANIZER;CN="Ted Volf":MAILTO:umpted48@gmail.com
END:VEVENT
BEGIN:VEVENT
DTSTART;TZID=America/Chicago:20201009T080000
DTEND;TZID=America/Chicago:20201011T200000
DTSTAMP:20260421T080003
CREATED:20200815T053315Z
LAST-MODIFIED:20201121T202949Z
UID:4046-1602230400-1602446400@htasobaseball.com
SUMMARY:Varsity Evaluations-Fall
DESCRIPTION:Varsity Evaluations will be conducted at Premier Baseball.  Contact Alfredo Sanut to be scheduled.
URL:http://htasobaseball.com/event/varsity-evaluations-fall/
LOCATION:TBD
CATEGORIES:Evaluation,Training
END:VEVENT
BEGIN:VEVENT
DTSTART;TZID=America/Chicago:20201007T180000
DTEND;TZID=America/Chicago:20201007T210000
DTSTAMP:20260421T080003
CREATED:20200815T053314Z
LAST-MODIFIED:20201121T202708Z
UID:4045-1602093600-1602104400@htasobaseball.com
SUMMARY:BOD Meeting-Oct
DESCRIPTION:Board of Directors Meeting
URL:http://htasobaseball.com/event/bod-meeting-oct/
LOCATION:Virtual Event
CATEGORIES:Board Meetings
ORGANIZER;CN="Josh White":MAILTO:dad9299@gmail.com
END:VEVENT
BEGIN:VEVENT
DTSTART;TZID=America/Chicago:20200916T180000
DTEND;TZID=America/Chicago:20200916T210000
DTSTAMP:20260421T080003
CREATED:20200815T053306Z
LAST-MODIFIED:20201121T202708Z
UID:4041-1600279200-1600290000@htasobaseball.com
SUMMARY:BOD Meeting-Sep
DESCRIPTION:Board of Directors Meeting
URL:http://htasobaseball.com/event/bod-meeting-sep/
LOCATION:Virtual Event
CATEGORIES:Board Meetings
ORGANIZER;CN="Josh White":MAILTO:dad9299@gmail.com
END:VEVENT
BEGIN:VEVENT
DTSTART;TZID=America/Chicago:20200911T080000
DTEND;TZID=America/Chicago:20200913T200000
DTSTAMP:20260421T080003
CREATED:20200815T053309Z
LAST-MODIFIED:20201121T202949Z
UID:4043-1599811200-1600027200@htasobaseball.com
SUMMARY:Varsity Evaluations-Summer
DESCRIPTION:Varsity Evaluations will be conducted at Premier Baseball.  Contact Alfredo Sanut to be scheduled.
URL:http://htasobaseball.com/event/varsity-evaluations-summer/
LOCATION:TBD
CATEGORIES:Evaluation,Training
END:VEVENT
BEGIN:VEVENT
DTSTART;TZID=America/Chicago:20200909T183000
DTEND;TZID=America/Chicago:20200909T210000
DTSTAMP:20260421T080003
CREATED:20200815T053307Z
LAST-MODIFIED:20201121T202919Z
UID:4042-1599676200-1599685200@htasobaseball.com
SUMMARY:New Umpire Orientation-September
DESCRIPTION:New Umpire OrientationThis class is an introduction into TASO Baseball-Houston Chapter.  Attendance to one of the orientations is a requirement for any new member and any returning member with a significant break in service.  This class will be held via a virtual presentation and a link will be provided after registering.
URL:http://htasobaseball.com/event/new-umpire-orientation-september/
LOCATION:Virtual Event
CATEGORIES:Training
ORGANIZER;CN="Ted Volf":MAILTO:umpted48@gmail.com
END:VEVENT
BEGIN:VEVENT
DTSTART;TZID=America/Chicago:20200813T183000
DTEND;TZID=America/Chicago:20200813T210000
DTSTAMP:20260421T080003
CREATED:20200815T053304Z
LAST-MODIFIED:20201121T202848Z
UID:4040-1597343400-1597352400@htasobaseball.com
SUMMARY:New Umpire Orientation-August
DESCRIPTION:New Umpire OrientationThis class is an introduction into TASO Baseball-Houston Chapter.  Attendance to one of the orientations is a requirement for any new member and any returning member with a significant break in service.  This class will be held via a virtual presentation and a link will be provided after registering.
URL:http://htasobaseball.com/event/new-umpire-orientation-august/
LOCATION:Virtual Event
CATEGORIES:Training
ORGANIZER;CN="Ted Volf":MAILTO:umpted48@gmail.com
END:VEVENT
BEGIN:VEVENT
DTSTART;VALUE=DATE:20200701
DTEND;VALUE=DATE:20201007
DTSTAMP:20260421T080003
CREATED:20200815T053303Z
LAST-MODIFIED:20201121T202919Z
UID:4039-1593561600-1602028799@htasobaseball.com
SUMMARY:State and Chapter Membership Fees Due
DESCRIPTION:TASO Fees:  New Members-$70\, Returning Members-$80\, Auxillary (<18yrs old)-$70\, Late Fee-$25 if paid after 10/6/2020Go to https://taso.org and select the appropriate link for new or returning members. \nChapter Fees:  New Members-$60\, Returning Members-$25\, Late Fee-$25 if paid after 12/31/2020\n(Fees waived for returning members who were in good standing for 2019-20 season)\nGo to https://htasobaseball.com\, click "Online Store" and select the appropriate fee (a $2 service fee is assessed for online payments) or a check\, made payable to "TASO Baseball-Houston Chapter" may be sent to the Treasurer at:\nBruce Sanford\n12422 Morning Rain Dr.\nTomball\, TX 77377
URL:http://htasobaseball.com/event/state-and-chapter-membership-fees-due/
CATEGORIES:Notification
END:VEVENT
END:VCALENDAR