BEGIN:VCALENDAR
VERSION:2.0
PRODID:-//Houston TASO - ECPv6.15.20//NONSGML v1.0//EN
CALSCALE:GREGORIAN
METHOD:PUBLISH
X-ORIGINAL-URL:http://htasobaseball.com
X-WR-CALDESC:Events for Houston TASO
REFRESH-INTERVAL;VALUE=DURATION:PT1H
X-Robots-Tag:noindex
X-PUBLISHED-TTL:PT1H
BEGIN:VTIMEZONE
TZID:America/Chicago
BEGIN:DAYLIGHT
TZOFFSETFROM:-0600
TZOFFSETTO:-0500
TZNAME:CDT
DTSTART:20210314T080000
END:DAYLIGHT
BEGIN:STANDARD
TZOFFSETFROM:-0500
TZOFFSETTO:-0600
TZNAME:CST
DTSTART:20211107T070000
END:STANDARD
BEGIN:DAYLIGHT
TZOFFSETFROM:-0600
TZOFFSETTO:-0500
TZNAME:CDT
DTSTART:20220313T080000
END:DAYLIGHT
BEGIN:STANDARD
TZOFFSETFROM:-0500
TZOFFSETTO:-0600
TZNAME:CST
DTSTART:20221106T070000
END:STANDARD
BEGIN:DAYLIGHT
TZOFFSETFROM:-0600
TZOFFSETTO:-0500
TZNAME:CDT
DTSTART:20230312T080000
END:DAYLIGHT
BEGIN:STANDARD
TZOFFSETFROM:-0500
TZOFFSETTO:-0600
TZNAME:CST
DTSTART:20231105T070000
END:STANDARD
BEGIN:DAYLIGHT
TZOFFSETFROM:-0600
TZOFFSETTO:-0500
TZNAME:CDT
DTSTART:20240310T080000
END:DAYLIGHT
BEGIN:STANDARD
TZOFFSETFROM:-0500
TZOFFSETTO:-0600
TZNAME:CST
DTSTART:20241103T070000
END:STANDARD
END:VTIMEZONE
BEGIN:VEVENT
DTSTART;TZID=America/Chicago:20231220T183000
DTEND;TZID=America/Chicago:20231220T193000
DTSTAMP:20260420T074607
CREATED:20231109T004521Z
LAST-MODIFIED:20231109T004521Z
UID:5361-1703097000-1703100600@htasobaseball.com
SUMMARY:General Membership ZOOM meeting
DESCRIPTION:
URL:http://htasobaseball.com/event/general-membership-zoom-meeting-3/
LOCATION:Virtual Event
CATEGORIES:General Meetings
END:VEVENT
BEGIN:VEVENT
DTSTART;TZID=America/Chicago:20231213T183000
DTEND;TZID=America/Chicago:20231213T193000
DTSTAMP:20260420T074607
CREATED:20231109T004429Z
LAST-MODIFIED:20231212T213323Z
UID:5359-1702492200-1702495800@htasobaseball.com
SUMMARY:General Membership ZOOM meeting
DESCRIPTION:https://us02web.zoom.us/webinar/register/WN_3ov6zLhYTGqFGfh-0vtCCA
URL:http://htasobaseball.com/event/general-membership-zoom-meeting-2/
LOCATION:Virtual Event
CATEGORIES:General Meetings
END:VEVENT
BEGIN:VEVENT
DTSTART;TZID=America/Chicago:20231211T190000
DTEND;TZID=America/Chicago:20231211T200000
DTSTAMP:20260420T074607
CREATED:20231208T165602Z
LAST-MODIFIED:20231211T223201Z
UID:5380-1702321200-1702324800@htasobaseball.com
SUMMARY:Roundtable discussion
DESCRIPTION:Come share your experience or simply learn from those who have been around \n  \nZoom link: https://us02web.zoom.us/meeting/register/tZIod-ihrj4iEtXMSnjrJVn1tApOw9cLc8t1
URL:http://htasobaseball.com/event/roundtable-discussion/
LOCATION:Virtual Event
CATEGORIES:Training
END:VEVENT
BEGIN:VEVENT
DTSTART;TZID=America/Chicago:20231207T183000
DTEND;TZID=America/Chicago:20231207T210000
DTSTAMP:20260420T074607
CREATED:20230601T141534Z
LAST-MODIFIED:20230712T201533Z
UID:5208-1701973800-1701982800@htasobaseball.com
SUMMARY:New Umpires Mandatory Orientation (In-Person meeting) (3rd out of 4)
DESCRIPTION:Make sure to pre-register at Registration – Houston TASO (htasobaseball.com)
URL:http://htasobaseball.com/event/new-umpires-mandatory-orientation-zoom-meeting-5th-out-of-6/
LOCATION:TBD
CATEGORIES:Orientation,Training
END:VEVENT
BEGIN:VEVENT
DTSTART;TZID=America/Chicago:20231206T183000
DTEND;TZID=America/Chicago:20231206T193000
DTSTAMP:20260420T074607
CREATED:20231109T004256Z
LAST-MODIFIED:20231109T004256Z
UID:5357-1701887400-1701891000@htasobaseball.com
SUMMARY:General membership ZOOM meeting
DESCRIPTION:
URL:http://htasobaseball.com/event/general-membership-zoom-meeting/
LOCATION:Virtual Event
END:VEVENT
BEGIN:VEVENT
DTSTART;TZID=America/Chicago:20231114T183000
DTEND;TZID=America/Chicago:20231114T210000
DTSTAMP:20260420T074607
CREATED:20230601T141428Z
LAST-MODIFIED:20231107T213453Z
UID:5206-1699986600-1699995600@htasobaseball.com
SUMMARY:New Umpires Mandatory Orientation (ZOOM meeting) (2nd out of 4)
DESCRIPTION:Make sure to pre-register at http://htasobaseball.com/registration/
URL:http://htasobaseball.com/event/new-umpires-mandatory-orientation-zoom-meeting-4th-out-of-6/
LOCATION:Virtual Event
CATEGORIES:Orientation,Training
END:VEVENT
BEGIN:VEVENT
DTSTART;TZID=America/Chicago:20231113T190000
DTEND;TZID=America/Chicago:20231113T210000
DTSTAMP:20260420T074607
CREATED:20231109T012239Z
LAST-MODIFIED:20231109T012239Z
UID:5370-1699902000-1699909200@htasobaseball.com
SUMMARY:First roundtable session of the 2024 season
DESCRIPTION:A link will be provided a few days before the session.  Moderated by Greg Schoonard
URL:http://htasobaseball.com/event/first-roundtable-session-of-the-2024-season/
END:VEVENT
BEGIN:VEVENT
DTSTART;TZID=America/Chicago:20231105T090000
DTEND;TZID=America/Chicago:20231105T160000
DTSTAMP:20260420T074607
CREATED:20230712T202459Z
LAST-MODIFIED:20231019T001404Z
UID:5264-1699174800-1699200000@htasobaseball.com
SUMMARY:Chapter Advanced Training
DESCRIPTION:Advanced training for current members.     Astros Urban Youth Academy\, 2801 N Victory Dr\, Houston\, TX 77088
URL:http://htasobaseball.com/event/chapter-advanced-training-2/
LOCATION:Astros Urban Youth Academy\, 2801 S. Victory Dr.\, Houston\, TX\, 77099\, United States
CATEGORIES:Training
ORGANIZER;CN="Ken Leventhal":MAILTO:ksleventhal@yahoo.com
END:VEVENT
BEGIN:VEVENT
DTSTART;TZID=America/Chicago:20231104T090000
DTEND;TZID=America/Chicago:20231104T160000
DTSTAMP:20260420T074607
CREATED:20230712T202233Z
LAST-MODIFIED:20231019T001505Z
UID:5262-1699088400-1699113600@htasobaseball.com
SUMMARY:Chapter Advanced Training
DESCRIPTION:Advanced training for current members.   Astros Urban Youth Academy\, 2801 N Victory Dr\, Houston\, TX 77088
URL:http://htasobaseball.com/event/chapter-advanced-training/
LOCATION:Astros Urban Youth Academy\, 2801 S. Victory Dr.\, Houston\, TX\, 77099\, United States
CATEGORIES:Training
ORGANIZER;CN="Ken Leventhal":MAILTO:ksleventhal@yahoo.com
END:VEVENT
BEGIN:VEVENT
DTSTART;TZID=America/Chicago:20231012T183000
DTEND;TZID=America/Chicago:20231012T210000
DTSTAMP:20260420T074607
CREATED:20230601T140951Z
LAST-MODIFIED:20230712T201143Z
UID:5200-1697135400-1697144400@htasobaseball.com
SUMMARY:New Umpires Mandatory Orientation (ZOOM meeting)  (1st out of 4)
DESCRIPTION:Make sure to pre-register at Registration – Houston TASO (htasobaseball.com)
URL:http://htasobaseball.com/event/new-umpires-mandatory-orientation-zoom-meeting-3rd-out-of-6/
LOCATION:Virtual Event
CATEGORIES:Orientation,Training
END:VEVENT
BEGIN:VEVENT
DTSTART;TZID=America/Chicago:20230604T190000
DTEND;TZID=America/Chicago:20230604T210000
DTSTAMP:20260420T074607
CREATED:20230601T161559Z
LAST-MODIFIED:20230601T161559Z
UID:5235-1685905200-1685912400@htasobaseball.com
SUMMARY:Board Meeting
DESCRIPTION:
URL:http://htasobaseball.com/event/board-meeting/
CATEGORIES:Board Meetings
END:VEVENT
BEGIN:VEVENT
DTSTART;VALUE=DATE:20230222
DTEND;VALUE=DATE:20230223
DTSTAMP:20260420T074607
CREATED:20230118T150638Z
LAST-MODIFIED:20230118T150638Z
UID:5138-1677024000-1677110399@htasobaseball.com
SUMMARY:Deadline for all scrimmage forms to be turned in to the treasurer.
DESCRIPTION:Email at treasurer@htasobaseball.com
URL:http://htasobaseball.com/event/deadline-for-all-scrimmage-forms-to-be-turned-in-to-the-treasurer/
CATEGORIES:Deadline
END:VEVENT
BEGIN:VEVENT
DTSTART;VALUE=DATE:20230220
DTEND;VALUE=DATE:20230221
DTSTAMP:20260420T074607
CREATED:20230118T134838Z
LAST-MODIFIED:20230118T134838Z
UID:5130-1676851200-1676937599@htasobaseball.com
SUMMARY:First day for interschool games UIL
DESCRIPTION:
URL:http://htasobaseball.com/event/first-day-for-interschool-games-uil/
END:VEVENT
BEGIN:VEVENT
DTSTART;TZID=America/Chicago:20230213T183000
DTEND;TZID=America/Chicago:20230213T200000
DTSTAMP:20260420T074607
CREATED:20230118T134623Z
LAST-MODIFIED:20230118T134623Z
UID:5125-1676313000-1676318400@htasobaseball.com
SUMMARY:Round Table Discussion
DESCRIPTION:
URL:http://htasobaseball.com/event/round-table-discussion-2/
LOCATION:Virtual Event
CATEGORIES:Training
ORGANIZER;CN="Ken Leventhal":MAILTO:ksleventhal@yahoo.com
END:VEVENT
BEGIN:VEVENT
DTSTART;VALUE=DATE:20230204
DTEND;VALUE=DATE:20230206
DTSTAMP:20260420T074607
CREATED:20230118T124634Z
LAST-MODIFIED:20230118T124857Z
UID:5119-1675468800-1675641599@htasobaseball.com
SUMMARY:Advanced Clinic Training
DESCRIPTION:For registration: https://forms.gle/XxyztoZtcrn59Bk67 \n 
URL:http://htasobaseball.com/event/advanced-clinic-training/
LOCATION:Astros Urban Youth Academy\, 2801 S. Victory Dr.\, Houston\, TX\, 77099\, United States
CATEGORIES:Training
ORGANIZER;CN="Ken Leventhal":MAILTO:ksleventhal@yahoo.com
END:VEVENT
BEGIN:VEVENT
DTSTART;VALUE=DATE:20230204
DTEND;VALUE=DATE:20230205
DTSTAMP:20260420T074607
CREATED:20230118T134731Z
LAST-MODIFIED:20230118T134804Z
UID:5127-1675468800-1675555199@htasobaseball.com
SUMMARY:First day for interschool scrimmages UIL
DESCRIPTION:
URL:http://htasobaseball.com/event/beginning-of-uil-scrimmages/
END:VEVENT
BEGIN:VEVENT
DTSTART;TZID=America/Chicago:20230201T183000
DTEND;TZID=America/Chicago:20230201T203000
DTSTAMP:20260420T074607
CREATED:20230118T125102Z
LAST-MODIFIED:20230118T125102Z
UID:5121-1675276200-1675283400@htasobaseball.com
SUMMARY:Houston TASO Board Meeting
DESCRIPTION:You can reach your directors if you need something clarified by the BOD.
URL:http://htasobaseball.com/event/houston-taso-board-meeting/
LOCATION:Virtual Event
CATEGORIES:Board Meetings
ORGANIZER;CN="Regis Platek":MAILTO:RMP1776@gmail.com
END:VEVENT
BEGIN:VEVENT
DTSTART;TZID=America/Chicago:20230130T183000
DTEND;TZID=America/Chicago:20230130T200000
DTSTAMP:20260420T074607
CREATED:20230118T134452Z
LAST-MODIFIED:20230118T134452Z
UID:5123-1675103400-1675108800@htasobaseball.com
SUMMARY:Round Table Discussion
DESCRIPTION:
URL:http://htasobaseball.com/event/round-table-discussion/
LOCATION:Virtual Event
CATEGORIES:Training
ORGANIZER;CN="Ken Leventhal":MAILTO:ksleventhal@yahoo.com
END:VEVENT
BEGIN:VEVENT
DTSTART;TZID=America/Chicago:20230125T183000
DTEND;TZID=America/Chicago:20230125T193000
DTSTAMP:20260420T074607
CREATED:20230118T120737Z
LAST-MODIFIED:20230118T120737Z
UID:5115-1674671400-1674675000@htasobaseball.com
SUMMARY:Last Zoom Meeting for the Chapter this season
DESCRIPTION:This will be your last chance to attend a zoom meeting this season.  This meeting will be focused on the rules and we will have a guest from the State.
URL:http://htasobaseball.com/event/last-zoom-meeting-for-the-chapter-this-season/
LOCATION:Virtual Event
CATEGORIES:General Meetings
END:VEVENT
BEGIN:VEVENT
DTSTART;VALUE=DATE:20230124
DTEND;VALUE=DATE:20230125
DTSTAMP:20260420T074607
CREATED:20230118T150409Z
LAST-MODIFIED:20230118T150409Z
UID:5134-1674518400-1674604799@htasobaseball.com
SUMMARY:First 3 weeks of the season released in ZebraWeb
DESCRIPTION:
URL:http://htasobaseball.com/event/first-3-weeks-of-the-season-released-in-zebraweb/
CATEGORIES:Notification
END:VEVENT
BEGIN:VEVENT
DTSTART;VALUE=DATE:20230120
DTEND;VALUE=DATE:20230121
DTSTAMP:20260420T074607
CREATED:20230118T134924Z
LAST-MODIFIED:20230118T134924Z
UID:5132-1674172800-1674259199@htasobaseball.com
SUMMARY:First day for practice UIL
DESCRIPTION:
URL:http://htasobaseball.com/event/first-day-for-practice-uil/
END:VEVENT
BEGIN:VEVENT
DTSTART;TZID=America/Chicago:20230118T183000
DTEND;TZID=America/Chicago:20230118T203000
DTSTAMP:20260420T074607
CREATED:20230118T120416Z
LAST-MODIFIED:20230118T133814Z
UID:5112-1674066600-1674073800@htasobaseball.com
SUMMARY:General membership In-Person Meeting.
DESCRIPTION:There will not be a recording of this meeting.  You must be present to get credit for this meeting. Attendance will be recorded.\n\n  \n\nComfortable attire is suggested.  No need to be in uniform or to bring gear.  We will be rotating around from breakout to breakout.\n\n  \n\nThere will be a PLAN B in case of rain.\n\n  \n\nOfficials Gear Outlet will be set up on site with hats \, gear\, and uniforms.\n\n  \nAstro Urban Youth Academy \n2801 S. Victory Drive \nHouston\, TX 77088
URL:http://htasobaseball.com/event/in-person-meeting/
LOCATION:Astros Urban Youth Academy\, 2801 S. Victory Dr.\, Houston\, TX\, 77099\, United States
CATEGORIES:General Meetings
END:VEVENT
BEGIN:VEVENT
DTSTART;VALUE=DATE:20220701
DTEND;VALUE=DATE:20220702
DTSTAMP:20260420T074607
CREATED:20210901T062306Z
LAST-MODIFIED:20210901T062306Z
UID:4707-1656633600-1656719999@htasobaseball.com
SUMMARY:2022-23 TASO Fiscal Year Begins
DESCRIPTION:Newly elected officers begin their two year term on the board of directors.State and Chapter dues are due for the 2022-23 season.
URL:http://htasobaseball.com/event/2022-23-taso-fiscal-year-begins/
CATEGORIES:Notification
END:VEVENT
BEGIN:VEVENT
DTSTART;VALUE=DATE:20220611
DTEND;VALUE=DATE:20220612
DTSTAMP:20260420T074607
CREATED:20210901T062106Z
LAST-MODIFIED:20210901T062106Z
UID:4706-1654905600-1654991999@htasobaseball.com
SUMMARY:2022 State Tournament\, UIL-Day 4
DESCRIPTION:
URL:http://htasobaseball.com/event/2022-state-tournament-uil-day-4/
LOCATION:TBD
CATEGORIES:Notification
END:VEVENT
BEGIN:VEVENT
DTSTART;VALUE=DATE:20220610
DTEND;VALUE=DATE:20220611
DTSTAMP:20260420T074607
CREATED:20210901T062106Z
LAST-MODIFIED:20210901T062106Z
UID:4705-1654819200-1654905599@htasobaseball.com
SUMMARY:2022 State Tournament\, UIL-Day 3
DESCRIPTION:
URL:http://htasobaseball.com/event/2022-state-tournament-uil-day-3/
LOCATION:TBD
CATEGORIES:Notification
END:VEVENT
BEGIN:VEVENT
DTSTART;VALUE=DATE:20220609
DTEND;VALUE=DATE:20220610
DTSTAMP:20260420T074607
CREATED:20210901T062105Z
LAST-MODIFIED:20210901T062105Z
UID:4704-1654732800-1654819199@htasobaseball.com
SUMMARY:2022 State Tournament\, UIL-Day 2
DESCRIPTION:
URL:http://htasobaseball.com/event/2022-state-tournament-uil-day-2/
LOCATION:TBD
CATEGORIES:Notification
END:VEVENT
BEGIN:VEVENT
DTSTART;VALUE=DATE:20220608
DTEND;VALUE=DATE:20220609
DTSTAMP:20260420T074607
CREATED:20210901T062105Z
LAST-MODIFIED:20210901T062105Z
UID:4703-1654646400-1654732799@htasobaseball.com
SUMMARY:2022 State Tournament\, UIL-Day 1
DESCRIPTION:
URL:http://htasobaseball.com/event/2022-state-tournament-uil-day-1/
LOCATION:TBD
CATEGORIES:Notification
END:VEVENT
BEGIN:VEVENT
DTSTART;TZID=America/Chicago:20220601T180000
DTEND;TZID=America/Chicago:20220601T210000
DTSTAMP:20260420T074607
CREATED:20210901T062105Z
LAST-MODIFIED:20210901T062105Z
UID:4702-1654106400-1654117200@htasobaseball.com
SUMMARY:2022 BOD Meeting-Jun
DESCRIPTION:Board of Directors Meeting
URL:http://htasobaseball.com/event/2022-bod-meeting-jun/
LOCATION:Virtual Event
CATEGORIES:Board Meetings
END:VEVENT
BEGIN:VEVENT
DTSTART;VALUE=DATE:20220516
DTEND;VALUE=DATE:20220531
DTSTAMP:20260420T074607
CREATED:20210901T061905Z
LAST-MODIFIED:20210901T061905Z
UID:4701-1652659200-1653955199@htasobaseball.com
SUMMARY:2022 Chapter Runoff Elections (if needed)
DESCRIPTION:Runoff Election ballots are conducted by TASO. Go to your membership portal at https://taso.org.  Elections conclude on 5/30.
URL:http://htasobaseball.com/event/2022-chapter-runoff-elections-if-needed/
LOCATION:Virtual Event
CATEGORIES:Deadline
ATTACH;FMTTYPE=image/jpeg:http://htasobaseball.com/wp-content/uploads/2021/09/selective-focus-grayscale-photography-of-baseball-773063-ahIa0x.tmp_.jpg
ORGANIZER;CN="Josh White":MAILTO:dad9299@gmail.com
END:VEVENT
BEGIN:VEVENT
DTSTART;VALUE=DATE:20220515
DTEND;VALUE=DATE:20220616
DTSTAMP:20260420T074607
CREATED:20210901T061905Z
LAST-MODIFIED:20210901T061905Z
UID:4700-1652572800-1655337599@htasobaseball.com
SUMMARY:2022 Playoff Scheduling Fees Due
DESCRIPTION:All playoff scheduling fees are due.  The scheduler may impose a $15 late fee if paid after 6/15.
URL:http://htasobaseball.com/event/2022-playoff-scheduling-fees-due/
CATEGORIES:Deadline
ATTACH;FMTTYPE=image/jpeg:http://htasobaseball.com/wp-content/uploads/2021/09/selective-focus-grayscale-photography-of-baseball-773063-ahIa0x.tmp_.jpg
ORGANIZER;CN="Charlie Strasser":MAILTO:charliestrasser@me.com
END:VEVENT
END:VCALENDAR