BEGIN:VCALENDAR
VERSION:2.0
PRODID:-//Houston TASO - ECPv6.15.20//NONSGML v1.0//EN
CALSCALE:GREGORIAN
METHOD:PUBLISH
X-ORIGINAL-URL:http://htasobaseball.com
X-WR-CALDESC:Events for Houston TASO
REFRESH-INTERVAL;VALUE=DURATION:PT1H
X-Robots-Tag:noindex
X-PUBLISHED-TTL:PT1H
BEGIN:VTIMEZONE
TZID:America/Chicago
BEGIN:DAYLIGHT
TZOFFSETFROM:-0600
TZOFFSETTO:-0500
TZNAME:CDT
DTSTART:20210314T080000
END:DAYLIGHT
BEGIN:STANDARD
TZOFFSETFROM:-0500
TZOFFSETTO:-0600
TZNAME:CST
DTSTART:20211107T070000
END:STANDARD
BEGIN:DAYLIGHT
TZOFFSETFROM:-0600
TZOFFSETTO:-0500
TZNAME:CDT
DTSTART:20220313T080000
END:DAYLIGHT
BEGIN:STANDARD
TZOFFSETFROM:-0500
TZOFFSETTO:-0600
TZNAME:CST
DTSTART:20221106T070000
END:STANDARD
BEGIN:DAYLIGHT
TZOFFSETFROM:-0600
TZOFFSETTO:-0500
TZNAME:CDT
DTSTART:20230312T080000
END:DAYLIGHT
BEGIN:STANDARD
TZOFFSETFROM:-0500
TZOFFSETTO:-0600
TZNAME:CST
DTSTART:20231105T070000
END:STANDARD
END:VTIMEZONE
BEGIN:VEVENT
DTSTART;TZID=America/Chicago:20220504T180000
DTEND;TZID=America/Chicago:20220504T210000
DTSTAMP:20260420T122359
CREATED:20210901T061904Z
LAST-MODIFIED:20210901T061904Z
UID:4699-1651687200-1651698000@htasobaseball.com
SUMMARY:2022 BOD Meeting-May
DESCRIPTION:Board of Directors Meeting
URL:http://htasobaseball.com/event/2022-bod-meeting-may/
LOCATION:Virtual Event
CATEGORIES:Board Meetings
ATTACH;FMTTYPE=image/jpeg:http://htasobaseball.com/wp-content/uploads/2021/09/selective-focus-grayscale-photography-of-baseball-773063-ahIa0x.tmp_.jpg
END:VEVENT
BEGIN:VEVENT
DTSTART;VALUE=DATE:20220501
DTEND;VALUE=DATE:20220602
DTSTAMP:20260420T122359
CREATED:20210901T061904Z
LAST-MODIFIED:20210901T061904Z
UID:4698-1651363200-1654127999@htasobaseball.com
SUMMARY:2022 Regular Season Scheduling Fees Due
DESCRIPTION:All regular season scheduling fees are due.  The scheduler may impose a $15 late fee if paid after 6/1.
URL:http://htasobaseball.com/event/2022-regular-season-scheduling-fees-due/
CATEGORIES:Deadline
ATTACH;FMTTYPE=image/jpeg:http://htasobaseball.com/wp-content/uploads/2021/09/selective-focus-grayscale-photography-of-baseball-773063-ahIa0x.tmp_.jpg
ORGANIZER;CN="Charlie Strasser":MAILTO:charliestrasser@me.com
END:VEVENT
BEGIN:VEVENT
DTSTART;VALUE=DATE:20220501
DTEND;VALUE=DATE:20220516
DTSTAMP:20260420T122359
CREATED:20210901T061904Z
LAST-MODIFIED:20210901T061904Z
UID:4697-1651363200-1652659199@htasobaseball.com
SUMMARY:2022 Chapter Elections for Board of Directors
DESCRIPTION:Election ballots are conducted by TASO. Go to your membership portal at https://taso.org.  Elections conclude on 5/15.
URL:http://htasobaseball.com/event/2022-chapter-elections-for-board-of-directors/
LOCATION:Virtual Event
CATEGORIES:Deadline
ATTACH;FMTTYPE=image/jpeg:http://htasobaseball.com/wp-content/uploads/2021/09/selective-focus-grayscale-photography-of-baseball-773063-ahIa0x.tmp_.jpg
ORGANIZER;CN="Josh White":MAILTO:dad9299@gmail.com
END:VEVENT
BEGIN:VEVENT
DTSTART;TZID=America/Chicago:20220430T080000
DTEND;TZID=America/Chicago:20220430T120000
DTSTAMP:20260420T122359
CREATED:20210901T061704Z
LAST-MODIFIED:20210901T061704Z
UID:4696-1651305600-1651320000@htasobaseball.com
SUMMARY:2022 Chapter 3 & 4-Man Clinic-2
DESCRIPTION:This is required for all playoff eligible umpires if you did not receive credit for the 3/4-man Clinic conducted by the state.
URL:http://htasobaseball.com/event/2022-chapter-3-4-man-clinic-2/
LOCATION:TBD
CATEGORIES:Training
ATTACH;FMTTYPE=image/jpeg:http://htasobaseball.com/wp-content/uploads/2021/09/Umpire-RRTmlN.tmp_.jpg
END:VEVENT
BEGIN:VEVENT
DTSTART;TZID=America/Chicago:20220423T080000
DTEND;TZID=America/Chicago:20220423T120000
DTSTAMP:20260420T122359
CREATED:20210901T061704Z
LAST-MODIFIED:20210901T061704Z
UID:4695-1650700800-1650715200@htasobaseball.com
SUMMARY:2022 Chapter 3 & 4-Man Clinic-1
DESCRIPTION:This is required for all playoff eligible umpires if you did not receive credit for the 3/4-man Clinic conducted by the state.
URL:http://htasobaseball.com/event/2022-chapter-3-4-man-clinic-1/
LOCATION:TBD
CATEGORIES:Training
ATTACH;FMTTYPE=image/jpeg:http://htasobaseball.com/wp-content/uploads/2021/09/Umpire-RRTmlN.tmp_.jpg
END:VEVENT
BEGIN:VEVENT
DTSTART;TZID=America/Chicago:20220406T180000
DTEND;TZID=America/Chicago:20220406T210000
DTSTAMP:20260420T122359
CREATED:20210901T061704Z
LAST-MODIFIED:20210901T061704Z
UID:4694-1649268000-1649278800@htasobaseball.com
SUMMARY:2022 BOD Meeting-Apr
DESCRIPTION:Board of Directors Meeting
URL:http://htasobaseball.com/event/2022-bod-meeting-apr/
LOCATION:Virtual Event
CATEGORIES:Board Meetings
ATTACH;FMTTYPE=image/jpeg:http://htasobaseball.com/wp-content/uploads/2021/09/selective-focus-grayscale-photography-of-baseball-773063-ahIa0x.tmp_.jpg
END:VEVENT
BEGIN:VEVENT
DTSTART;VALUE=DATE:20220401
DTEND;VALUE=DATE:20220426
DTSTAMP:20260420T122359
CREATED:20210901T061703Z
LAST-MODIFIED:20210901T061703Z
UID:4693-1648771200-1650931199@htasobaseball.com
SUMMARY:2022 Board of Directors Nominations Open
DESCRIPTION:Nominations for the Board of Directors closes after 4/25 to allow TASO time enter and post the online election by 5/1.  The “BOD Nomination Form” can be found on ZebraWeb under Documents/Forms.
URL:http://htasobaseball.com/event/2022-board-of-directors-nominations-open/
CATEGORIES:Deadline
ATTACH;FMTTYPE=image/jpeg:http://htasobaseball.com/wp-content/uploads/2021/09/selective-focus-grayscale-photography-of-baseball-773063-ahIa0x.tmp_.jpg
ORGANIZER;CN="Josh White":MAILTO:dad9299@gmail.com
END:VEVENT
BEGIN:VEVENT
DTSTART;VALUE=DATE:20220401
DTEND;VALUE=DATE:20220402
DTSTAMP:20260420T122359
CREATED:20210901T061703Z
LAST-MODIFIED:20210901T061703Z
UID:4692-1648771200-1648857599@htasobaseball.com
SUMMARY:2022 State Tournament Crew Officials Due to TASO
DESCRIPTION:Submit top crew members to UIL for playoff selection.
URL:http://htasobaseball.com/event/2022-state-tournament-crew-officials-due-to-taso/
CATEGORIES:Deadline
ATTACH;FMTTYPE=image/jpeg:http://htasobaseball.com/wp-content/uploads/2021/09/selective-focus-grayscale-photography-of-baseball-773063-ahIa0x.tmp_.jpg
ORGANIZER;CN="Josh White":MAILTO:dad9299@gmail.com
END:VEVENT
BEGIN:VEVENT
DTSTART;TZID=America/Chicago:20220302T180000
DTEND;TZID=America/Chicago:20220302T210000
DTSTAMP:20260420T122359
CREATED:20210901T061503Z
LAST-MODIFIED:20210901T061503Z
UID:4691-1646244000-1646254800@htasobaseball.com
SUMMARY:2022 BOD Meeting-Mar
DESCRIPTION:Board of Directors Meeting
URL:http://htasobaseball.com/event/2022-bod-meeting-mar/
LOCATION:Virtual Event
CATEGORIES:Board Meetings
ATTACH;FMTTYPE=image/jpeg:http://htasobaseball.com/wp-content/uploads/2021/09/selective-focus-grayscale-photography-of-baseball-773063-ahIa0x.tmp_.jpg
END:VEVENT
BEGIN:VEVENT
DTSTART;VALUE=DATE:20220221
DTEND;VALUE=DATE:20220222
DTSTAMP:20260420T122359
CREATED:20210901T061502Z
LAST-MODIFIED:20210901T061502Z
UID:4690-1645401600-1645487999@htasobaseball.com
SUMMARY:2022 UIL Regular Season Starts
DESCRIPTION:UIL school’s are allowed to begin district play.
URL:http://htasobaseball.com/event/2022-uil-regular-season-starts/
CATEGORIES:Notification
ATTACH;FMTTYPE=image/jpeg:http://htasobaseball.com/wp-content/uploads/2021/09/selective-focus-grayscale-photography-of-baseball-773063-ahIa0x.tmp_.jpg
END:VEVENT
BEGIN:VEVENT
DTSTART;VALUE=DATE:20220221
DTEND;VALUE=DATE:20220222
DTSTAMP:20260420T122359
CREATED:20210901T061502Z
LAST-MODIFIED:20210901T061502Z
UID:4689-1645401600-1645487999@htasobaseball.com
SUMMARY:2022 Online Rules Exam & Clinic-CLOSED
DESCRIPTION:The online version of the state meeting and the rules exam close and cannot be taken beyond this date.
URL:http://htasobaseball.com/event/2022-online-rules-exam-clinic-closed/
CATEGORIES:Notification
ATTACH;FMTTYPE=image/jpeg:http://htasobaseball.com/wp-content/uploads/2021/09/selective-focus-grayscale-photography-of-baseball-773063-ahIa0x.tmp_.jpg
END:VEVENT
BEGIN:VEVENT
DTSTART;TZID=America/Chicago:20220219T080000
DTEND;TZID=America/Chicago:20220219T170000
DTSTAMP:20260420T122359
CREATED:20210901T061502Z
LAST-MODIFIED:20210901T061502Z
UID:4688-1645257600-1645290000@htasobaseball.com
SUMMARY:2022 Varsity Evaluation Scrimmages-4
DESCRIPTION:Varsity Evaluations will be conducted at different HS scrimmages thoughout the HTASO coverage area. Contact Danny Hernandez to be scheduled.
URL:http://htasobaseball.com/event/2022-varsity-evaluation-scrimmages-4/
LOCATION:TBD
CATEGORIES:Evaluation,Notification
ATTACH;FMTTYPE=image/jpeg:http://htasobaseball.com/wp-content/uploads/2021/09/selective-focus-grayscale-photography-of-baseball-773063-ahIa0x.tmp_.jpg
END:VEVENT
BEGIN:VEVENT
DTSTART;VALUE=DATE:20220216
DTEND;VALUE=DATE:20220217
DTSTAMP:20260420T122359
CREATED:20210901T061501Z
LAST-MODIFIED:20210901T061501Z
UID:4687-1644969600-1645055999@htasobaseball.com
SUMMARY:2022 Second Release of Game Assignments
DESCRIPTION:Varsity auto-assigned games and JV self-assign games will be released for the remainder of the season.
URL:http://htasobaseball.com/event/2022-second-release-of-game-assignments/
CATEGORIES:Notification
ATTACH;FMTTYPE=image/jpeg:http://htasobaseball.com/wp-content/uploads/2021/09/selective-focus-grayscale-photography-of-baseball-773063-ahIa0x.tmp_.jpg
ORGANIZER;CN="Charlie Strasser":MAILTO:charliestrasser@me.com
END:VEVENT
BEGIN:VEVENT
DTSTART;TZID=America/Chicago:20220212T080000
DTEND;TZID=America/Chicago:20220212T170000
DTSTAMP:20260420T122359
CREATED:20210901T061302Z
LAST-MODIFIED:20210901T061302Z
UID:4686-1644652800-1644685200@htasobaseball.com
SUMMARY:2022 Varsity Evaluation Scrimmages-3
DESCRIPTION:Varsity Evaluations will be conducted at different HS scrimmages thoughout the HTASO coverage area. Contact Danny Hernandez to be scheduled.
URL:http://htasobaseball.com/event/2022-varsity-evaluation-scrimmages-3/
LOCATION:TBD
CATEGORIES:Evaluation,Notification
ATTACH;FMTTYPE=image/jpeg:http://htasobaseball.com/wp-content/uploads/2021/09/selective-focus-grayscale-photography-of-baseball-773063-ahIa0x.tmp_.jpg
END:VEVENT
BEGIN:VEVENT
DTSTART;TZID=America/Chicago:20220205T080000
DTEND;TZID=America/Chicago:20220205T170000
DTSTAMP:20260420T122359
CREATED:20210901T061301Z
LAST-MODIFIED:20210901T061301Z
UID:4684-1644048000-1644080400@htasobaseball.com
SUMMARY:2022 Varsity Evaluation Scrimmages-2
DESCRIPTION:Varsity Evaluations will be conducted at different HS scrimmages thoughout the HTASO coverage area. Contact Danny Hernandez to be scheduled.
URL:http://htasobaseball.com/event/2022-varsity-evaluation-scrimmages-2/
LOCATION:TBD
CATEGORIES:Evaluation,Notification
ATTACH;FMTTYPE=image/jpeg:http://htasobaseball.com/wp-content/uploads/2021/09/selective-focus-grayscale-photography-of-baseball-773063-ahIa0x.tmp_.jpg
END:VEVENT
BEGIN:VEVENT
DTSTART;VALUE=DATE:20220205
DTEND;VALUE=DATE:20220206
DTSTAMP:20260420T122359
CREATED:20210901T061301Z
LAST-MODIFIED:20210901T061301Z
UID:4683-1644019200-1644105599@htasobaseball.com
SUMMARY:2022 UIL Scrimmages Start
DESCRIPTION:UIL school’s are allowed to begin holding scrimmages.
URL:http://htasobaseball.com/event/2022-uil-scrimmages-start/
CATEGORIES:Notification
ATTACH;FMTTYPE=image/jpeg:http://htasobaseball.com/wp-content/uploads/2021/09/selective-focus-grayscale-photography-of-baseball-773063-ahIa0x.tmp_.jpg
END:VEVENT
BEGIN:VEVENT
DTSTART;TZID=America/Chicago:20220204T180000
DTEND;TZID=America/Chicago:20220205T235900
DTSTAMP:20260420T122359
CREATED:20210901T061301Z
LAST-MODIFIED:20220108T005240Z
UID:4682-1643997600-1644105540@htasobaseball.com
SUMMARY:2022 Tournament and Auto-Assign Games Released
DESCRIPTION:All tournaments will be released. \nFirst three weeks of self-assign and auto-assign released. \nSub-varsity umpires may not self-assign themselves for Varsity games.
URL:http://htasobaseball.com/event/2022-first-games-released/
CATEGORIES:Notification
ATTACH;FMTTYPE=image/jpeg:http://htasobaseball.com/wp-content/uploads/2021/09/selective-focus-grayscale-photography-of-baseball-773063-ahIa0x.tmp_.jpg
ORGANIZER;CN="Charlie Strasser":MAILTO:charliestrasser@me.com
END:VEVENT
BEGIN:VEVENT
DTSTART;TZID=America/Chicago:20220202T180000
DTEND;TZID=America/Chicago:20220202T210000
DTSTAMP:20260420T122359
CREATED:20210901T061101Z
LAST-MODIFIED:20210901T061101Z
UID:4681-1643824800-1643835600@htasobaseball.com
SUMMARY:2022 BOD Meeting-Feb
DESCRIPTION:Board of Directors Meeting
URL:http://htasobaseball.com/event/2022-bod-meeting-feb/
LOCATION:Virtual Event
CATEGORIES:Board Meetings
ATTACH;FMTTYPE=image/jpeg:http://htasobaseball.com/wp-content/uploads/2021/09/selective-focus-grayscale-photography-of-baseball-773063-ahIa0x.tmp_.jpg
END:VEVENT
BEGIN:VEVENT
DTSTART;VALUE=DATE:20220131
DTEND;VALUE=DATE:20220201
DTSTAMP:20260420T122359
CREATED:20210901T061100Z
LAST-MODIFIED:20220105T235740Z
UID:4679-1643587200-1643673599@htasobaseball.com
SUMMARY:2022 Members in Bad Standing-ZW Accounts Locked
DESCRIPTION:Any member in bad standing will have their access to ZebraWeb blocked until dues are paid and/or achieve a passing score on the rules exam.
URL:http://htasobaseball.com/event/2022-members-in-bad-standing-zw-accounts-locked/
CATEGORIES:Notification
ATTACH;FMTTYPE=image/png:http://htasobaseball.com/wp-content/uploads/2021/09/redX.png
ORGANIZER;CN="Josh White":MAILTO:dad9299@gmail.com
END:VEVENT
BEGIN:VEVENT
DTSTART;VALUE=DATE:20220131
DTEND;VALUE=DATE:20220201
DTSTAMP:20260420T122359
CREATED:20210901T061100Z
LAST-MODIFIED:20210901T061100Z
UID:4680-1643587200-1643673599@htasobaseball.com
SUMMARY:2022 TAPPS Regular Season Starts
DESCRIPTION:TAPPS district play begins.
URL:http://htasobaseball.com/event/2022-tapps-regular-season-starts/
CATEGORIES:Notification
ATTACH;FMTTYPE=image/jpeg:http://htasobaseball.com/wp-content/uploads/2021/09/selective-focus-grayscale-photography-of-baseball-773063-ahIa0x.tmp_.jpg
END:VEVENT
BEGIN:VEVENT
DTSTART;VALUE=DATE:20220131
DTEND;VALUE=DATE:20220201
DTSTAMP:20260420T122359
CREATED:20210901T061100Z
LAST-MODIFIED:20210901T061100Z
UID:4677-1643587200-1643673599@htasobaseball.com
SUMMARY:2022 Chapter's School Coverage Report Due
DESCRIPTION:A list of schools and districts covered by HTASO are due to TASO for playoff crew selection criteria.
URL:http://htasobaseball.com/event/2022-chapters-school-coverage-report-due/
CATEGORIES:Deadline
ATTACH;FMTTYPE=image/jpeg:http://htasobaseball.com/wp-content/uploads/2021/09/selective-focus-grayscale-photography-of-baseball-773063-ahIa0x.tmp_.jpg
ORGANIZER;CN="Josh White":MAILTO:dad9299@gmail.com
END:VEVENT
BEGIN:VEVENT
DTSTART;VALUE=DATE:20220131
DTEND;VALUE=DATE:20220201
DTSTAMP:20260420T122359
CREATED:20210901T061100Z
LAST-MODIFIED:20210901T061100Z
UID:4678-1643587200-1643673599@htasobaseball.com
SUMMARY:2022 Rankings Due
DESCRIPTION:New umpire rankings must be submitted to the chapter Secretary before games can be released.
URL:http://htasobaseball.com/event/2022-rankings-due/
CATEGORIES:Deadline
ATTACH;FMTTYPE=image/jpeg:http://htasobaseball.com/wp-content/uploads/2021/09/selective-focus-grayscale-photography-of-baseball-773063-ahIa0x.tmp_.jpg
ORGANIZER;CN="Josh White":MAILTO:dad9299@gmail.com
END:VEVENT
BEGIN:VEVENT
DTSTART;TZID=America/Chicago:20220130T080000
DTEND;TZID=America/Chicago:20220130T160000
DTSTAMP:20260420T122359
CREATED:20210901T060900Z
LAST-MODIFIED:20220118T085919Z
UID:4676-1643529600-1643558400@htasobaseball.com
SUMMARY:2022 New Umpire Clinic-Week 3\, Day 3
DESCRIPTION:New members must attend two (2) weekends of the New Umpire Training to be scheduled games through HTASO. \nLocations/Schedule: \n\nTBD
URL:http://htasobaseball.com/event/2022-new-umpire-clinic-week-3-day-3/
LOCATION:TBD
CATEGORIES:Training
ATTACH;FMTTYPE=image/jpeg:http://htasobaseball.com/wp-content/uploads/2021/09/Umpire-RRTmlN.tmp_.jpg
END:VEVENT
BEGIN:VEVENT
DTSTART;TZID=America/Chicago:20220129T080000
DTEND;TZID=America/Chicago:20220129T170000
DTSTAMP:20260420T122359
CREATED:20210901T060900Z
LAST-MODIFIED:20210901T060900Z
UID:4675-1643443200-1643475600@htasobaseball.com
SUMMARY:2022 Varsity Evaluation Scrimmages-1
DESCRIPTION:Varsity Evaluations will be conducted at different HS scrimmages thoughout the HTASO coverage area. Contact Danny Hernandez to be scheduled.
URL:http://htasobaseball.com/event/2022-varsity-evaluation-scrimmages-1/
LOCATION:TBD
CATEGORIES:Evaluation,Notification
ATTACH;FMTTYPE=image/jpeg:http://htasobaseball.com/wp-content/uploads/2021/09/selective-focus-grayscale-photography-of-baseball-773063-ahIa0x.tmp_.jpg
END:VEVENT
BEGIN:VEVENT
DTSTART;TZID=America/Chicago:20220129T080000
DTEND;TZID=America/Chicago:20220129T160000
DTSTAMP:20260420T122359
CREATED:20210901T060900Z
LAST-MODIFIED:20220118T023636Z
UID:4674-1643443200-1643472000@htasobaseball.com
SUMMARY:2022 New Umpire Clinic-Week 3\, Day 2
DESCRIPTION:New members must attend two (2) weekends of the New Umpire Training to be scheduled games through HTASO. \nAll new members need to come dressed in their base uniform and bring your plate gear for live game practice. \nLocations/Schedule: \n\nCollege Park HS\n\nOn-Field Clinic\, 8am-10am\nLive games\, 10am-4:30pm\n\n\nSpring Branch Memorial HS\n\nOn-Field Clinic\, 8am-1:30pm\nLive games\, 2pm-5:30pm\n\n\nAtascocita HS\n\nLive games\, 8am-7pm\n\n\n\nCollege Park High School-Baseball Field\n3701 College Park Dr.\nWoodlands\, TX 77384 \nMemorial High School-Baseball Field (across from HS)\n935 Echo Ln.\nHouston\, TX 77024 \nAtascocita High School-Baseball Field\n13300 Will Clayton Pkwy.\nHumble\, TX 77346
URL:http://htasobaseball.com/event/2022-new-umpire-clinic-week-3-day-2/
LOCATION:TBD
CATEGORIES:Training
ATTACH;FMTTYPE=image/jpeg:http://htasobaseball.com/wp-content/uploads/2021/09/Umpire-RRTmlN.tmp_.jpg
END:VEVENT
BEGIN:VEVENT
DTSTART;TZID=America/Chicago:20220128T183000
DTEND;TZID=America/Chicago:20220128T210000
DTSTAMP:20260420T122359
CREATED:20210901T060859Z
LAST-MODIFIED:20210901T060859Z
UID:4673-1643394600-1643403600@htasobaseball.com
SUMMARY:2022 New Umpire Clinic-Week 3\, Day 1
DESCRIPTION:New members must attend two (2) weekends of the New Umpire Training to be scheduled games through HTASO.
URL:http://htasobaseball.com/event/2022-new-umpire-clinic-week-3-day-1/
LOCATION:TBD
CATEGORIES:Training
ATTACH;FMTTYPE=image/jpeg:http://htasobaseball.com/wp-content/uploads/2021/09/Umpire-RRTmlN.tmp_.jpg
END:VEVENT
BEGIN:VEVENT
DTSTART;TZID=America/Chicago:20220126T183000
DTEND;TZID=America/Chicago:20220126T203000
DTSTAMP:20260420T122359
CREATED:20211215T213314Z
LAST-MODIFIED:20220105T235614Z
UID:4804-1643221800-1643229000@htasobaseball.com
SUMMARY:2022 Rules Clinic Meeting
DESCRIPTION:This meeting is MANDATORY if a member has not attended the State Meeting\, Regional Clinic\, or the online rules clinic. \nThis will be held at the Tracy Gee Community Center. Pizza and sodas will be provided. \nIf you have not received you rule book or ID card\, they may be picked up before 6:20pm and after the meeting concludes. \nKyle McNeely\, TASO State Rules Interpreter\, will be presenting.
URL:http://htasobaseball.com/event/2022-rules-clinic-meeting/
LOCATION:Tracy Gee Community Center\, 3599 Westcenter Dr.\, Houston\, TX\, 77042\, United States
CATEGORIES:General Meetings,Training
ATTACH;FMTTYPE=image/jpeg:http://htasobaseball.com/wp-content/uploads/2021/09/selective-focus-grayscale-photography-of-baseball-773063-ahIa0x.tmp_.jpg
ORGANIZER;CN="Josh White":MAILTO:dad9299@gmail.com
END:VEVENT
BEGIN:VEVENT
DTSTART;VALUE=DATE:20220124
DTEND;VALUE=DATE:20220125
DTSTAMP:20260420T122359
CREATED:20210901T061301Z
LAST-MODIFIED:20220109T161556Z
UID:4685-1642982400-1643068799@htasobaseball.com
SUMMARY:2022 First Release of Game Assignments
DESCRIPTION:Varsity auto-assigned games and JV self-assign games will be released for the first 3 weeks of regular season.
URL:http://htasobaseball.com/event/2022-first-release-of-game-assignments/
CATEGORIES:Notification
ATTACH;FMTTYPE=image/jpeg:http://htasobaseball.com/wp-content/uploads/2021/09/selective-focus-grayscale-photography-of-baseball-773063-ahIa0x.tmp_.jpg
ORGANIZER;CN="Charlie Strasser":MAILTO:charliestrasser@me.com
END:VEVENT
BEGIN:VEVENT
DTSTART;VALUE=DATE:20220124
DTEND;VALUE=DATE:20220125
DTSTAMP:20260420T122359
CREATED:20210901T060859Z
LAST-MODIFIED:20210901T060859Z
UID:4672-1642982400-1643068799@htasobaseball.com
SUMMARY:2022 TAPPS Scrimmages Start
DESCRIPTION:TAPPS scrimmages begin.
URL:http://htasobaseball.com/event/2022-tapps-scrimmages-start/
CATEGORIES:Notification
ATTACH;FMTTYPE=image/jpeg:http://htasobaseball.com/wp-content/uploads/2021/09/selective-focus-grayscale-photography-of-baseball-773063-ahIa0x.tmp_.jpg
END:VEVENT
BEGIN:VEVENT
DTSTART;TZID=America/Chicago:20220123T080000
DTEND;TZID=America/Chicago:20220123T160000
DTSTAMP:20260420T122359
CREATED:20210901T060659Z
LAST-MODIFIED:20220118T090005Z
UID:4671-1642924800-1642953600@htasobaseball.com
SUMMARY:2022 New Umpire Clinic-Week 2\, Day 3
DESCRIPTION:New members must attend two (2) weekends of the New Umpire Training to be scheduled games through HTASO. \nLocations/Schedule: \n\nTBD
URL:http://htasobaseball.com/event/2022-new-umpire-clinic-week-2-day-3/
LOCATION:TBD
CATEGORIES:Training
ATTACH;FMTTYPE=image/jpeg:http://htasobaseball.com/wp-content/uploads/2021/09/Umpire-RRTmlN.tmp_.jpg
END:VEVENT
END:VCALENDAR